BEGIN:VCALENDAR
VERSION:2.0
PRODID:-//SRS US High School - ECPv6.15.20//NONSGML v1.0//EN
CALSCALE:GREGORIAN
METHOD:PUBLISH
X-WR-CALNAME:SRS US High School
X-ORIGINAL-URL:https://srsusdubai.ae
X-WR-CALDESC:Events for SRS US High School
REFRESH-INTERVAL;VALUE=DURATION:PT1H
X-Robots-Tag:noindex
X-PUBLISHED-TTL:PT1H
BEGIN:VTIMEZONE
TZID:Asia/Dubai
BEGIN:STANDARD
TZOFFSETFROM:+0400
TZOFFSETTO:+0400
TZNAME:+04
DTSTART:20220101T000000
END:STANDARD
END:VTIMEZONE
BEGIN:VEVENT
DTSTART;VALUE=DATE:20250124
DTEND;VALUE=DATE:20250125
DTSTAMP:20260422T140622
CREATED:20250107T061001Z
LAST-MODIFIED:20250107T061001Z
UID:17521-1737676800-1737763199@srsusdubai.ae
SUMMARY:Quarter 2 Ends
DESCRIPTION:Quarter 2 Ends
URL:https://srsusdubai.ae/calendar/quarter-2-ends/
CATEGORIES:Term 1,US Calendar
END:VEVENT
BEGIN:VEVENT
DTSTART;VALUE=DATE:20250106
DTEND;VALUE=DATE:20250107
DTSTAMP:20260422T140622
CREATED:20250107T060925Z
LAST-MODIFIED:20250107T060925Z
UID:17518-1736121600-1736207999@srsusdubai.ae
SUMMARY:Back to School
DESCRIPTION:Back to School
URL:https://srsusdubai.ae/calendar/back-to-school-4/
CATEGORIES:Term 1,US Calendar
END:VEVENT
BEGIN:VEVENT
DTSTART;VALUE=DATE:20250101
DTEND;VALUE=DATE:20250102
DTSTAMP:20260422T140622
CREATED:20250107T060854Z
LAST-MODIFIED:20250107T060854Z
UID:17516-1735689600-1735775999@srsusdubai.ae
SUMMARY:New Year’s Day
DESCRIPTION:New Year’s Day
URL:https://srsusdubai.ae/calendar/new-years-day-3/
CATEGORIES:Term 1,US Calendar
END:VEVENT
BEGIN:VEVENT
DTSTART;VALUE=DATE:20241216
DTEND;VALUE=DATE:20250104
DTSTAMP:20260422T140622
CREATED:20250107T060811Z
LAST-MODIFIED:20250107T060811Z
UID:17514-1734307200-1735948799@srsusdubai.ae
SUMMARY:Winter Break
DESCRIPTION:Winter Break
URL:https://srsusdubai.ae/calendar/winter-break/
CATEGORIES:Term 1,US Calendar
END:VEVENT
BEGIN:VEVENT
DTSTART;VALUE=DATE:20240101
DTEND;VALUE=DATE:20240102
DTSTAMP:20260422T140622
CREATED:20230908T061002Z
LAST-MODIFIED:20230908T061002Z
UID:16430-1704067200-1704153599@srsusdubai.ae
SUMMARY:New Years Day
DESCRIPTION:New Years Day
URL:https://srsusdubai.ae/calendar/new-years-day/
CATEGORIES:Public Holiday,Term 1,US Calendar
END:VEVENT
BEGIN:VEVENT
DTSTART;VALUE=DATE:20231229
DTEND;VALUE=DATE:20231230
DTSTAMP:20260422T140622
CREATED:20231119T063642Z
LAST-MODIFIED:20231119T063642Z
UID:16740-1703808000-1703894399@srsusdubai.ae
SUMMARY:End of Term 1 Holiday
DESCRIPTION:End of Term 1 Holiday
URL:https://srsusdubai.ae/calendar/end-of-term-1-holiday/
LOCATION:School of Research Science\, Dubai\, United Arab Emirates
CATEGORIES:Term 1,US Calendar
END:VEVENT
BEGIN:VEVENT
DTSTART;VALUE=DATE:20231211
DTEND;VALUE=DATE:20231230
DTSTAMP:20260422T140622
CREATED:20230908T060836Z
LAST-MODIFIED:20230908T060836Z
UID:16428-1702252800-1703894399@srsusdubai.ae
SUMMARY:End of Term 1 Break
DESCRIPTION:End of Term 1 Break
URL:https://srsusdubai.ae/calendar/end-of-term-1-break-2/
CATEGORIES:Term 1,US Calendar
END:VEVENT
BEGIN:VEVENT
DTSTART;VALUE=DATE:20231208
DTEND;VALUE=DATE:20231209
DTSTAMP:20260422T140622
CREATED:20231119T063320Z
LAST-MODIFIED:20231119T063320Z
UID:16738-1701993600-1702079999@srsusdubai.ae
SUMMARY:End of Term 1
DESCRIPTION:End of Term 1
URL:https://srsusdubai.ae/calendar/end-of-term-1/
LOCATION:School of Research Science\, Dubai\, United Arab Emirates
CATEGORIES:Term 1,US Calendar
END:VEVENT
BEGIN:VEVENT
DTSTART;VALUE=DATE:20231205
DTEND;VALUE=DATE:20231209
DTSTAMP:20260422T140622
CREATED:20231119T063244Z
LAST-MODIFIED:20231119T063244Z
UID:16736-1701734400-1702079999@srsusdubai.ae
SUMMARY:Semester 1 Benchmark Testing
DESCRIPTION:Semester 1 Benchmark Testing
URL:https://srsusdubai.ae/calendar/semester-1-benchmark-testing-2/
LOCATION:School of Research Science\, Dubai\, United Arab Emirates
CATEGORIES:Term 1,US Calendar
END:VEVENT
BEGIN:VEVENT
DTSTART;VALUE=DATE:20231204
DTEND;VALUE=DATE:20231205
DTSTAMP:20260422T140622
CREATED:20231119T063214Z
LAST-MODIFIED:20231119T063214Z
UID:16732-1701648000-1701734399@srsusdubai.ae
SUMMARY:Semester 1 Benchmark Testing
DESCRIPTION:Semester 1 Benchmark Testing
URL:https://srsusdubai.ae/calendar/semester-1-benchmark-testing/
LOCATION:School of Research Science\, Dubai\, United Arab Emirates
CATEGORIES:Term 1,US Calendar
END:VEVENT
BEGIN:VEVENT
DTSTART;VALUE=DATE:20231204
DTEND;VALUE=DATE:20231205
DTSTAMP:20260422T140622
CREATED:20231119T063145Z
LAST-MODIFIED:20231119T063145Z
UID:16733-1701648000-1701734399@srsusdubai.ae
SUMMARY:Back to School
DESCRIPTION:Back to School
URL:https://srsusdubai.ae/calendar/back-to-school/
LOCATION:School of Research Science\, Dubai\, United Arab Emirates
CATEGORIES:Term 1,US Calendar
END:VEVENT
BEGIN:VEVENT
DTSTART;VALUE=DATE:20231202
DTEND;VALUE=DATE:20231203
DTSTAMP:20260422T140622
CREATED:20231119T062951Z
LAST-MODIFIED:20231206T101420Z
UID:16730-1701475200-1701561599@srsusdubai.ae
SUMMARY:SAT
DESCRIPTION:SAT
URL:https://srsusdubai.ae/calendar/sat-2/
LOCATION:School of Research Science\, Dubai\, United Arab Emirates
CATEGORIES:Term 1,US Calendar
END:VEVENT
BEGIN:VEVENT
DTSTART;VALUE=DATE:20231202
DTEND;VALUE=DATE:20231204
DTSTAMP:20260422T140622
CREATED:20230908T060605Z
LAST-MODIFIED:20231109T082142Z
UID:16426-1701475200-1701647999@srsusdubai.ae
SUMMARY:National Day (Public Holiday)
DESCRIPTION:National Day (Public Holiday)
URL:https://srsusdubai.ae/calendar/national-day-public-holiday/
CATEGORIES:Public Holiday,Term 1,US Calendar
END:VEVENT
BEGIN:VEVENT
DTSTART;VALUE=DATE:20231201
DTEND;VALUE=DATE:20231202
DTSTAMP:20260422T140622
CREATED:20231119T062449Z
LAST-MODIFIED:20240227T051903Z
UID:16726-1701388800-1701475199@srsusdubai.ae
SUMMARY:Commemoration Day
DESCRIPTION:Commemoration Day \n 
URL:https://srsusdubai.ae/calendar/commemoration-day-4/
LOCATION:School of Research Science\, Dubai\, United Arab Emirates
CATEGORIES:Term 1,US Calendar
END:VEVENT
BEGIN:VEVENT
DTSTART;VALUE=DATE:20231127
DTEND;VALUE=DATE:20231201
DTSTAMP:20260422T140622
CREATED:20231119T062350Z
LAST-MODIFIED:20231206T091246Z
UID:16722-1701043200-1701388799@srsusdubai.ae
SUMMARY:PROUD Reports
DESCRIPTION:PROUD Reports
URL:https://srsusdubai.ae/calendar/proud-reports/
LOCATION:School of Research Science\, Dubai\, United Arab Emirates
CATEGORIES:Term 1,US Calendar
END:VEVENT
BEGIN:VEVENT
DTSTART;VALUE=DATE:20231122
DTEND;VALUE=DATE:20231123
DTSTAMP:20260422T140622
CREATED:20231119T062318Z
LAST-MODIFIED:20231119T062318Z
UID:16720-1700611200-1700697599@srsusdubai.ae
SUMMARY:CAT4 Data Analysis
DESCRIPTION:CAT4 Data Analysis
URL:https://srsusdubai.ae/calendar/cat4-data-analysis/
LOCATION:School of Research Science\, Dubai\, United Arab Emirates
CATEGORIES:Term 1,US Calendar
END:VEVENT
BEGIN:VEVENT
DTSTART;VALUE=DATE:20231121
DTEND;VALUE=DATE:20231122
DTSTAMP:20260422T140622
CREATED:20231119T062257Z
LAST-MODIFIED:20231119T062257Z
UID:16718-1700524800-1700611199@srsusdubai.ae
SUMMARY:My Social Responsibility Grade 12 Boys
DESCRIPTION:My Social Responsibility Grade 12 Boys
URL:https://srsusdubai.ae/calendar/my-social-responsibility-grade-12-boys/
LOCATION:School of Research Science\, Dubai\, United Arab Emirates
CATEGORIES:Term 1,US Calendar
END:VEVENT
BEGIN:VEVENT
DTSTART;VALUE=DATE:20231120
DTEND;VALUE=DATE:20231121
DTSTAMP:20260422T140622
CREATED:20231119T062223Z
LAST-MODIFIED:20231119T062223Z
UID:16716-1700438400-1700524799@srsusdubai.ae
SUMMARY:Children's Day
DESCRIPTION:Children’s Day
URL:https://srsusdubai.ae/calendar/childrens-day/
LOCATION:School of Research Science\, Dubai\, United Arab Emirates
CATEGORIES:Term 1,US Calendar
END:VEVENT
BEGIN:VEVENT
DTSTART;VALUE=DATE:20231117
DTEND;VALUE=DATE:20231118
DTSTAMP:20260422T140622
CREATED:20231119T062201Z
LAST-MODIFIED:20231119T062201Z
UID:16714-1700179200-1700265599@srsusdubai.ae
SUMMARY:Commercial souq G11 US (Boys – Girls)
DESCRIPTION:Commercial souq G11 US (Boys – Girls)
URL:https://srsusdubai.ae/calendar/commercial-souq-g11-us-boys-girls/
LOCATION:School of Research Science\, Dubai\, United Arab Emirates
CATEGORIES:Term 1,US Calendar
END:VEVENT
BEGIN:VEVENT
DTSTART;VALUE=DATE:20231117
DTEND;VALUE=DATE:20231118
DTSTAMP:20260422T140622
CREATED:20231119T062112Z
LAST-MODIFIED:20231119T062112Z
UID:16712-1700179200-1700265599@srsusdubai.ae
SUMMARY:Assembly: Senior Students-Life Skills
DESCRIPTION:Assembly: Senior Students-Life Skills
URL:https://srsusdubai.ae/calendar/assembly-senior-students-life-skills/
LOCATION:School of Research Science\, Dubai\, United Arab Emirates
CATEGORIES:Term 1,US Calendar
END:VEVENT
BEGIN:VEVENT
DTSTART;VALUE=DATE:20231116
DTEND;VALUE=DATE:20231117
DTSTAMP:20260422T140622
CREATED:20231119T061933Z
LAST-MODIFIED:20231119T061933Z
UID:16710-1700092800-1700179199@srsusdubai.ae
SUMMARY:International Day of Tolerance
DESCRIPTION:International Day of Tolerance
URL:https://srsusdubai.ae/calendar/international-day-of-tolerance/
CATEGORIES:Term 1,US Calendar
END:VEVENT
BEGIN:VEVENT
DTSTART;VALUE=DATE:20231114
DTEND;VALUE=DATE:20231117
DTSTAMP:20260422T140622
CREATED:20231119T061900Z
LAST-MODIFIED:20231119T062024Z
UID:16708-1699920000-1700179199@srsusdubai.ae
SUMMARY:My Social Responsibility Grade 12 Girls
DESCRIPTION:My Social Responsibility Grade 12 Girls
URL:https://srsusdubai.ae/calendar/my-social-responsibility-grade-12-girls/
LOCATION:School of Research Science\, Dubai\, United Arab Emirates
CATEGORIES:Term 1,US Calendar
END:VEVENT
BEGIN:VEVENT
DTSTART;VALUE=DATE:20231114
DTEND;VALUE=DATE:20231115
DTSTAMP:20260422T140622
CREATED:20231119T061812Z
LAST-MODIFIED:20231119T061812Z
UID:16706-1699920000-1700006399@srsusdubai.ae
SUMMARY:Robotic symbosium 1
DESCRIPTION:Robotic symposium 1
URL:https://srsusdubai.ae/calendar/robotic-symbosium-1/
LOCATION:School of Research Science\, Dubai\, United Arab Emirates
CATEGORIES:Term 1,US Calendar
END:VEVENT
BEGIN:VEVENT
DTSTART;VALUE=DATE:20231113
DTEND;VALUE=DATE:20231114
DTSTAMP:20260422T140622
CREATED:20231119T061546Z
LAST-MODIFIED:20231119T061700Z
UID:16704-1699833600-1699919999@srsusdubai.ae
SUMMARY:World Kindness Day
DESCRIPTION:World Kindness Day
URL:https://srsusdubai.ae/calendar/world-kindness-day-2/
LOCATION:School of Research Science\, Dubai\, United Arab Emirates
CATEGORIES:Term 1,US Calendar
END:VEVENT
BEGIN:VEVENT
DTSTART;VALUE=DATE:20231110
DTEND;VALUE=DATE:20231111
DTSTAMP:20260422T140622
CREATED:20231119T061415Z
LAST-MODIFIED:20231119T061415Z
UID:16701-1699574400-1699660799@srsusdubai.ae
SUMMARY:Commercial souq G10 US (Boys – Girls)
DESCRIPTION:Commercial souq G10 US (Boys – Girls)
URL:https://srsusdubai.ae/calendar/commercial-souq-g10-us-boys-girls/
LOCATION:School of Research Science\, Dubai\, United Arab Emirates
CATEGORIES:Term 1,US Calendar
END:VEVENT
BEGIN:VEVENT
DTSTART;VALUE=DATE:20231109
DTEND;VALUE=DATE:20231110
DTSTAMP:20260422T140622
CREATED:20231119T061346Z
LAST-MODIFIED:20231119T061346Z
UID:16699-1699488000-1699574399@srsusdubai.ae
SUMMARY:My Social Responsibility Grade 9 Boys
DESCRIPTION:My Social Responsibility Grade 9 Boys
URL:https://srsusdubai.ae/calendar/my-social-responsibility-grade-9-boys/
LOCATION:School of Research Science\, Dubai\, United Arab Emirates
CATEGORIES:Term 1,US Calendar
END:VEVENT
BEGIN:VEVENT
DTSTART;VALUE=DATE:20231107
DTEND;VALUE=DATE:20231108
DTSTAMP:20260422T140622
CREATED:20231119T061310Z
LAST-MODIFIED:20231119T061310Z
UID:16697-1699315200-1699401599@srsusdubai.ae
SUMMARY:My Social Responsibility Grade 9 Girls
DESCRIPTION:My Social Responsibility Grade 9 Girls
URL:https://srsusdubai.ae/calendar/my-social-responsibility-grade-9-girls/
LOCATION:School of Research Science\, Dubai\, United Arab Emirates
CATEGORIES:Term 1,US Calendar
END:VEVENT
BEGIN:VEVENT
DTSTART;VALUE=DATE:20231107
DTEND;VALUE=DATE:20231114
DTSTAMP:20260422T140622
CREATED:20231119T061232Z
LAST-MODIFIED:20231119T061631Z
UID:16695-1699315200-1699919999@srsusdubai.ae
SUMMARY:Career Day - For Boys
DESCRIPTION:Career Day – For Boys
URL:https://srsusdubai.ae/calendar/career-day-for-boys/
LOCATION:School of Research Science\, Dubai\, United Arab Emirates
CATEGORIES:Term 1,US Calendar
END:VEVENT
BEGIN:VEVENT
DTSTART;VALUE=DATE:20231107
DTEND;VALUE=DATE:20231111
DTSTAMP:20260422T140622
CREATED:20231119T061105Z
LAST-MODIFIED:20231119T061105Z
UID:16693-1699315200-1699660799@srsusdubai.ae
SUMMARY:CAT4
DESCRIPTION:CAT4
URL:https://srsusdubai.ae/calendar/cat4/
LOCATION:School of Research Science\, Dubai\, United Arab Emirates
CATEGORIES:Term 1,US Calendar
END:VEVENT
BEGIN:VEVENT
DTSTART;VALUE=DATE:20231106
DTEND;VALUE=DATE:20231107
DTSTAMP:20260422T140622
CREATED:20231119T061030Z
LAST-MODIFIED:20231119T061030Z
UID:16691-1699228800-1699315199@srsusdubai.ae
SUMMARY:Career Day - For Boys/D3 Grade 9
DESCRIPTION:Career Day – For Boys/D3 Grade 9
URL:https://srsusdubai.ae/calendar/career-day-for-boys-d3-grade-9/
LOCATION:School of Research Science\, Dubai\, United Arab Emirates
CATEGORIES:Term 1,US Calendar
END:VEVENT
END:VCALENDAR