BEGIN:VCALENDAR
VERSION:2.0
PRODID:-//SRS US High School - ECPv6.15.20//NONSGML v1.0//EN
CALSCALE:GREGORIAN
METHOD:PUBLISH
X-ORIGINAL-URL:https://srsusdubai.ae
X-WR-CALDESC:Events for SRS US High School
REFRESH-INTERVAL;VALUE=DURATION:PT1H
X-Robots-Tag:noindex
X-PUBLISHED-TTL:PT1H
BEGIN:VTIMEZONE
TZID:Asia/Dubai
BEGIN:STANDARD
TZOFFSETFROM:+0400
TZOFFSETTO:+0400
TZNAME:+04
DTSTART:20210101T000000
END:STANDARD
END:VTIMEZONE
BEGIN:VEVENT
DTSTART;VALUE=DATE:20221019
DTEND;VALUE=DATE:20221020
DTSTAMP:20260423T043407
CREATED:20220804T052907Z
LAST-MODIFIED:20220914T103112Z
UID:10412-1666137600-1666223999@srsusdubai.ae
SUMMARY:Louver Museum Trip Year 10 Boys
DESCRIPTION:Louver Museum trip for Year 10 Boys (ART)
URL:https://srsusdubai.ae/calendar/louver-museum-trip-2/
LOCATION:School of Research Science\, Dubai\, United Arab Emirates
CATEGORIES:Term 1,Trips/Camps/Visits,Uk Calendar
END:VEVENT
BEGIN:VEVENT
DTSTART;VALUE=DATE:20221018
DTEND;VALUE=DATE:20221019
DTSTAMP:20260423T043407
CREATED:20220804T052803Z
LAST-MODIFIED:20220914T103059Z
UID:10410-1666051200-1666137599@srsusdubai.ae
SUMMARY:Louver Museum Trip for Year 10 Girls
DESCRIPTION:Louver Museum trip for Year 10 Girls (ART)
URL:https://srsusdubai.ae/calendar/louver-museum-trip/
LOCATION:School of Research Science\, Dubai\, United Arab Emirates
CATEGORIES:Term 1,Trips/Camps/Visits,Uk Calendar
END:VEVENT
BEGIN:VEVENT
DTSTART;VALUE=DATE:20221018
DTEND;VALUE=DATE:20221019
DTSTAMP:20260423T043407
CREATED:20220804T052603Z
LAST-MODIFIED:20220912T105028Z
UID:10408-1666051200-1666137599@srsusdubai.ae
SUMMARY:Parents' Workshop
DESCRIPTION:Parents’ Workshop: online workshop for parents presented by one of welfare officers or one of the psychiatrists.
URL:https://srsusdubai.ae/calendar/parents-workshop-2/
LOCATION:School of Research Science\, Dubai\, United Arab Emirates
CATEGORIES:Term 1,Uk Calendar,Welfare Event
END:VEVENT
BEGIN:VEVENT
DTSTART;VALUE=DATE:20221013
DTEND;VALUE=DATE:20221014
DTSTAMP:20260423T043407
CREATED:20220626T155753Z
LAST-MODIFIED:20220914T103048Z
UID:10390-1665619200-1665705599@srsusdubai.ae
SUMMARY:Coffee Morning for Year 4
DESCRIPTION:Coffee Morning: An opportunity for parents to come and see learning in action and get to understand the British Curriculum in more detail.
URL:https://srsusdubai.ae/calendar/year-4-coffee-morning/
LOCATION:School of Research Science\, Dubai\, United Arab Emirates
CATEGORIES:SEND,Term 1,Uk Calendar
END:VEVENT
BEGIN:VEVENT
DTSTART;VALUE=DATE:20221012
DTEND;VALUE=DATE:20221013
DTSTAMP:20260423T043407
CREATED:20220626T155618Z
LAST-MODIFIED:20220912T103317Z
UID:10388-1665532800-1665619199@srsusdubai.ae
SUMMARY:Big Family Event for Year 4
DESCRIPTION:Big Family: an event that brings together students\, their families and the teacher remotely to open channels of communication between the student and those around him/her.
URL:https://srsusdubai.ae/calendar/big-family-year-4/
LOCATION:School of Research Science\, Dubai\, United Arab Emirates
CATEGORIES:Term 1,Uk Calendar,Welfare Event
END:VEVENT
BEGIN:VEVENT
DTSTART;VALUE=DATE:20221011
DTEND;VALUE=DATE:20221012
DTSTAMP:20260423T043407
CREATED:20220626T155519Z
LAST-MODIFIED:20220914T103013Z
UID:10386-1665446400-1665532799@srsusdubai.ae
SUMMARY:Coffee Morning for Year 3
DESCRIPTION:An opportunity for parents to come and see learning in action and get to understand the British Curriculum in more detail.
URL:https://srsusdubai.ae/calendar/year-3-coffee-morning/
LOCATION:School of Research Science\, Dubai\, United Arab Emirates
CATEGORIES:SEND,Term 1,Uk Calendar
END:VEVENT
BEGIN:VEVENT
DTSTART;VALUE=DATE:20221010
DTEND;VALUE=DATE:20221020
DTSTAMP:20260423T043407
CREATED:20220626T154706Z
LAST-MODIFIED:20220914T102944Z
UID:10384-1665360000-1666223999@srsusdubai.ae
SUMMARY:Secondary Activity Week
DESCRIPTION:Secondary Activity Weeks (TBC) (10/10 to 19/10). The culmination of the previous weeks’ events to showcase this issue in our school.
URL:https://srsusdubai.ae/calendar/secondary-activity-weeks/
LOCATION:School of Research Science\, Dubai\, United Arab Emirates
CATEGORIES:Term 1,Uk Calendar
END:VEVENT
BEGIN:VEVENT
DTSTART;VALUE=DATE:20221010
DTEND;VALUE=DATE:20221011
DTSTAMP:20260423T043407
CREATED:20220626T154040Z
LAST-MODIFIED:20220912T103154Z
UID:10381-1665360000-1665446399@srsusdubai.ae
SUMMARY:World Mental Health Day
DESCRIPTION:World Mental Health Day is an international day for global mental health education\, awareness and advocacy against social stigma
URL:https://srsusdubai.ae/calendar/world-mental-health-day/
LOCATION:School of Research Science\, Dubai\, United Arab Emirates
CATEGORIES:International Event,Term 1,Uk Calendar
END:VEVENT
BEGIN:VEVENT
DTSTART;VALUE=DATE:20221008
DTEND;VALUE=DATE:20221009
DTSTAMP:20260423T043407
CREATED:20220626T152630Z
LAST-MODIFIED:20220913T113352Z
UID:10379-1665187200-1665273599@srsusdubai.ae
SUMMARY:Prophet's Birthday PBUH*
DESCRIPTION:Prophet’s Birthday PBUH*. \n  \n 
URL:https://srsusdubai.ae/calendar/prophets-birthday-pbuh/
LOCATION:School of Research Science\, Dubai\, United Arab Emirates
CATEGORIES:International Event,Term 1,Uk Calendar
END:VEVENT
BEGIN:VEVENT
DTSTART;VALUE=DATE:20221007
DTEND;VALUE=DATE:20221008
DTSTAMP:20260423T043407
CREATED:20220626T152550Z
LAST-MODIFIED:20220914T102739Z
UID:10377-1665100800-1665187199@srsusdubai.ae
SUMMARY:IMG Camp for Year 5 Girls
DESCRIPTION:IMG Camp for Year 5 Girls
URL:https://srsusdubai.ae/calendar/img-camp/
LOCATION:School of Research Science\, Dubai\, United Arab Emirates
CATEGORIES:Term 1,Trips/Camps/Visits,Uk Calendar
END:VEVENT
BEGIN:VEVENT
DTSTART;VALUE=DATE:20221007
DTEND;VALUE=DATE:20221008
DTSTAMP:20260423T043407
CREATED:20220626T152444Z
LAST-MODIFIED:20220914T102812Z
UID:10375-1665100800-1665187199@srsusdubai.ae
SUMMARY:Paintball Camp Year 8 Boys
DESCRIPTION:Paintball Camp Year 8 Boys
URL:https://srsusdubai.ae/calendar/paintball-camp/
LOCATION:School of Research Science\, Dubai\, United Arab Emirates
CATEGORIES:Term 1,Trips/Camps/Visits,Uk Calendar
END:VEVENT
BEGIN:VEVENT
DTSTART;VALUE=DATE:20221007
DTEND;VALUE=DATE:20221008
DTSTAMP:20260423T043407
CREATED:20220626T152345Z
LAST-MODIFIED:20220914T102827Z
UID:10373-1665100800-1665187199@srsusdubai.ae
SUMMARY:Internal Camp for Year 5 Boys
DESCRIPTION:Internal Camp for Year 5 Boys.
URL:https://srsusdubai.ae/calendar/internal-camp-2/
LOCATION:School of Research Science\, Dubai\, United Arab Emirates
CATEGORIES:Term 1,Trips/Camps/Visits,Uk Calendar
END:VEVENT
BEGIN:VEVENT
DTSTART;VALUE=DATE:20221007
DTEND;VALUE=DATE:20221008
DTSTAMP:20260423T043407
CREATED:20220626T152252Z
LAST-MODIFIED:20220914T102844Z
UID:10371-1665100800-1665187199@srsusdubai.ae
SUMMARY:Internal Camp for Year 4 Boys
DESCRIPTION:Internal Camp for Year 4 Boys.
URL:https://srsusdubai.ae/calendar/internal-camp/
LOCATION:School of Research Science\, Dubai\, United Arab Emirates
CATEGORIES:Term 1,Trips/Camps/Visits,Uk Calendar
END:VEVENT
BEGIN:VEVENT
DTSTART;VALUE=DATE:20221006
DTEND;VALUE=DATE:20221007
DTSTAMP:20260423T043407
CREATED:20220626T144315Z
LAST-MODIFIED:20220914T102651Z
UID:10366-1665014400-1665100799@srsusdubai.ae
SUMMARY:Coffee Morning
DESCRIPTION:An opportunity for parents to come and see learning in action and get to understand the British Curriculum in more detail.
URL:https://srsusdubai.ae/calendar/coffee-morning-3/
LOCATION:School of Research Science\, Dubai\, United Arab Emirates
CATEGORIES:SEND,Term 1,Uk Calendar
END:VEVENT
BEGIN:VEVENT
DTSTART;VALUE=DATE:20221005
DTEND;VALUE=DATE:20221006
DTSTAMP:20260423T043407
CREATED:20220626T144143Z
LAST-MODIFIED:20220912T102333Z
UID:10363-1664928000-1665014399@srsusdubai.ae
SUMMARY:Arabic Champions League for Year 4 to 10
DESCRIPTION:Arabic Champions League for Y4-10. A competition to developing students in basic information in all Arabic subjects.
URL:https://srsusdubai.ae/calendar/arabic-champions-league-y4-10/
LOCATION:School of Research Science\, Dubai\, United Arab Emirates
CATEGORIES:Term 1,Uk Calendar
END:VEVENT
BEGIN:VEVENT
DTSTART;VALUE=DATE:20221005
DTEND;VALUE=DATE:20221006
DTSTAMP:20260423T043407
CREATED:20220626T144054Z
LAST-MODIFIED:20220912T102253Z
UID:10361-1664928000-1665014399@srsusdubai.ae
SUMMARY:World Teacher's Day
DESCRIPTION:World Teacher’s Day: A chance to thank the amazing staff at SRS
URL:https://srsusdubai.ae/calendar/world-teachers-day/
LOCATION:School of Research Science\, Dubai\, United Arab Emirates
CATEGORIES:International Event,Term 1,Uk Calendar
END:VEVENT
BEGIN:VEVENT
DTSTART;VALUE=DATE:20221004
DTEND;VALUE=DATE:20221005
DTSTAMP:20260423T043407
CREATED:20220626T143840Z
LAST-MODIFIED:20220912T093729Z
UID:10359-1664841600-1664927999@srsusdubai.ae
SUMMARY:Arabic Champions League for Year 4 to 10
DESCRIPTION:Arabic Champions league Y4-10.A competition to developing students in basic information in all Arabic subjects.
URL:https://srsusdubai.ae/calendar/arabic-champions-league/
LOCATION:School of Research Science\, Dubai\, United Arab Emirates
CATEGORIES:Term 1,Uk Calendar
END:VEVENT
BEGIN:VEVENT
DTSTART;VALUE=DATE:20221004
DTEND;VALUE=DATE:20221005
DTSTAMP:20260423T043407
CREATED:20220626T143634Z
LAST-MODIFIED:20220914T102606Z
UID:10355-1664841600-1664927999@srsusdubai.ae
SUMMARY:Coffee Morning for Year 1
DESCRIPTION:Coffee Morning for Year 1. An opportunity for parents to come and see learning in action and get to understand the British Curriculum in more detail.
URL:https://srsusdubai.ae/calendar/coffee-morning-2/
CATEGORIES:SEND,Term 1,Uk Calendar
END:VEVENT
BEGIN:VEVENT
DTSTART;VALUE=DATE:20221003
DTEND;VALUE=DATE:20221008
DTSTAMP:20260423T043407
CREATED:20220626T143504Z
LAST-MODIFIED:20220912T120930Z
UID:10353-1664755200-1665187199@srsusdubai.ae
SUMMARY:Mental Health Week
DESCRIPTION:A week for the whole SRS community promoting the importance of looking after your mental health. \n\nin this celebration it will provide a prime opportunity to address and highlight the important connection between social determinants and mental health; and promote effective prevention strategies to keep people mentally healthy. \nIn 2022\,  the Mental Health Week theme is: ‘Where we live. How we live. What we’ve lived.’ \nThis is to understand how the body\, mind and environment intersect which is essential to overall wellbeing. Physical health – both inside of us and in the world around us – has a major impact on mental health. The nutrition we consume\, movement of our bodies\, the health of the planet and quality of our housing and neighbourhoods all play a part in building health communities and individuals. \nOur bodies keep physical score of what we experience – it’s important to encourage a trauma-informed lens in trying to understand challenging behaviours\, intrusive thoughts and reactions. Learning how to process\, heal and grow from negative experiences shapes our resilience\, access to new opportunities\, coping skills\, strong connections and relationships\, and quality of life.
URL:https://srsusdubai.ae/calendar/mental-health-week/
LOCATION:School of Research Science\, Dubai\, United Arab Emirates
CATEGORIES:International Event,Term 1,Uk Calendar
END:VEVENT
BEGIN:VEVENT
DTSTART;VALUE=DATE:20221002
DTEND;VALUE=DATE:20221003
DTSTAMP:20260423T043407
CREATED:20220626T143413Z
LAST-MODIFIED:20220831T092743Z
UID:10351-1664668800-1664755199@srsusdubai.ae
SUMMARY:H11 Activities
DESCRIPTION:Start of H11 Activities Term 1
URL:https://srsusdubai.ae/calendar/h11-activities/
LOCATION:School of Research Science\, Dubai\, United Arab Emirates
CATEGORIES:Term 1,Uk Calendar
END:VEVENT
BEGIN:VEVENT
DTSTART;VALUE=DATE:20220930
DTEND;VALUE=DATE:20221001
DTSTAMP:20260423T043407
CREATED:20220626T082323Z
LAST-MODIFIED:20220912T105553Z
UID:10349-1664496000-1664582399@srsusdubai.ae
SUMMARY:Parents' Workshop
DESCRIPTION:Parents’ Workshop: online workshop for parents presented by one of welfare officers or one of the psychiatrists.
URL:https://srsusdubai.ae/calendar/parents-workshop/
LOCATION:School of Research Science\, Dubai\, United Arab Emirates
CATEGORIES:Term 1,Uk Calendar,Welfare Event
END:VEVENT
BEGIN:VEVENT
DTSTART;VALUE=DATE:20220929
DTEND;VALUE=DATE:20220930
DTSTAMP:20260423T043407
CREATED:20220626T081234Z
LAST-MODIFIED:20220914T100820Z
UID:10347-1664409600-1664495999@srsusdubai.ae
SUMMARY:Coffee Morning for FS2
DESCRIPTION:Coffee Morning for FS2. An opportunity for parents to come and see learning in action and get to understand the British Curriculum in more detail.
URL:https://srsusdubai.ae/calendar/coffee-morning/
LOCATION:School of Research Science\, Dubai\, United Arab Emirates
CATEGORIES:SEND,Term 1,Uk Calendar
END:VEVENT
BEGIN:VEVENT
DTSTART;VALUE=DATE:20220927
DTEND;VALUE=DATE:20220928
DTSTAMP:20260423T043407
CREATED:20220626T073106Z
LAST-MODIFIED:20220914T100703Z
UID:10345-1664236800-1664323199@srsusdubai.ae
SUMMARY:Coffee Morning for FS1
DESCRIPTION:Coffee Morning for FS1. An opportunity for parents to come and see learning in action and get to understand the British Curriculum in more detail.
URL:https://srsusdubai.ae/calendar/fs1-coffee-morning/
LOCATION:School of Research Science\, Dubai\, United Arab Emirates
CATEGORIES:SEND,Term 1,Uk Calendar
END:VEVENT
BEGIN:VEVENT
DTSTART;VALUE=DATE:20220926
DTEND;VALUE=DATE:20221001
DTSTAMP:20260423T043407
CREATED:20220626T072840Z
LAST-MODIFIED:20220912T092047Z
UID:10343-1664150400-1664582399@srsusdubai.ae
SUMMARY:Assembly Week for Year 7 to 12 (All Week)
DESCRIPTION:Year 7 to Year 12 Assembly Week (All Week)
URL:https://srsusdubai.ae/calendar/assembly-week/
LOCATION:School of Research Science\, Dubai\, United Arab Emirates
CATEGORIES:Term 1,Uk Calendar
END:VEVENT
BEGIN:VEVENT
DTSTART;VALUE=DATE:20220923
DTEND;VALUE=DATE:20220924
DTSTAMP:20260423T043407
CREATED:20220626T071225Z
LAST-MODIFIED:20220912T120448Z
UID:10338-1663891200-1663977599@srsusdubai.ae
SUMMARY:International Sign of Sign Language
DESCRIPTION:International Day of Sign Languages (IDSL) is celebrated annually across the world on 23 September every year along with International Week of the Deaf. \nThis was proclaimed by UN General Assembly in order to raise awareness of the importance of sign language in the full realization of the human rights of people who are deaf.
URL:https://srsusdubai.ae/calendar/international-sign-of-sign-language/
CATEGORIES:International Event,Term 1,Uk Calendar
END:VEVENT
BEGIN:VEVENT
DTSTART;VALUE=DATE:20220922
DTEND;VALUE=DATE:20220923
DTSTAMP:20260423T043407
CREATED:20220626T070230Z
LAST-MODIFIED:20220912T083039Z
UID:10333-1663804800-1663891199@srsusdubai.ae
SUMMARY:Curriculum Afternoon for Year 5 & 6
DESCRIPTION:Curriculum Afternoon for Year 5 & 6 Students.These are opportunities for parents to learn what learning looks like in the classroom. For Term 1 this will be Maths/HPL focused.
URL:https://srsusdubai.ae/calendar/curriculum-afternoon-3/
LOCATION:School of Research Science\, Dubai\, United Arab Emirates
CATEGORIES:Term 1,Uk Calendar
END:VEVENT
BEGIN:VEVENT
DTSTART;VALUE=DATE:20220921
DTEND;VALUE=DATE:20220922
DTSTAMP:20260423T043407
CREATED:20220626T070027Z
LAST-MODIFIED:20220912T120216Z
UID:10331-1663718400-1663804799@srsusdubai.ae
SUMMARY:International Day of Peace
DESCRIPTION:The International Day of Peace (“Peace Day”) is observed around the world each year on 21 September. Established in 1981 by unanimous United Nations resolution\, Peace Day provides a globally shared date for all humanity to commit to Peace above all differences and to contribute to building a Culture of Peace. \nThis year is particularly significant: It is the 20th Anniversary of the UN Resolution on the Programme of Action on a Culture of Peace. A/RES/53/243 B \nLet us all create Peace Day every day!
URL:https://srsusdubai.ae/calendar/international-day-of-peace/
LOCATION:School of Research Science\, Dubai\, United Arab Emirates
CATEGORIES:International Event,Term 1,Uk Calendar
END:VEVENT
BEGIN:VEVENT
DTSTART;VALUE=DATE:20220921
DTEND;VALUE=DATE:20220922
DTSTAMP:20260423T043407
CREATED:20220626T065701Z
LAST-MODIFIED:20220912T083453Z
UID:10329-1663718400-1663804799@srsusdubai.ae
SUMMARY:Curriculum Afternoon for Year 3 & 4
DESCRIPTION:Curriculum Afternoon for  Year 3 & 4 . These are opportunities for parents to learn what learning looks like in the classroom. For Term 1 this will be Maths/HPL focused.
URL:https://srsusdubai.ae/calendar/curriculum-afternoon-2/
LOCATION:School of Research Science\, Dubai\, United Arab Emirates
CATEGORIES:Term 1,Uk Calendar
END:VEVENT
BEGIN:VEVENT
DTSTART;VALUE=DATE:20220920
DTEND;VALUE=DATE:20220921
DTSTAMP:20260423T043407
CREATED:20220626T065600Z
LAST-MODIFIED:20220831T092808Z
UID:10327-1663632000-1663718399@srsusdubai.ae
SUMMARY:National Reading Program
DESCRIPTION:Starting of National Reading Program Year 1 to 12
URL:https://srsusdubai.ae/calendar/national-reading-program/
LOCATION:School of Research Science\, Dubai\, United Arab Emirates
CATEGORIES:Term 1,Uk Calendar
END:VEVENT
BEGIN:VEVENT
DTSTART;VALUE=DATE:20220920
DTEND;VALUE=DATE:20220921
DTSTAMP:20260423T043407
CREATED:20220626T065510Z
LAST-MODIFIED:20220912T091759Z
UID:10325-1663632000-1663718399@srsusdubai.ae
SUMMARY:Curriculum Afternoon for KS1
DESCRIPTION:Curriculum Afternoon for Year 1 & 2 Students. These are opportunities for parents to learn what learning looks like in the classroom. For Term 1 this will be Maths/HPL focused.
URL:https://srsusdubai.ae/calendar/curriculum-afternoon/
LOCATION:School of Research Science\, Dubai\, United Arab Emirates
CATEGORIES:Term 1,Uk Calendar
END:VEVENT
END:VCALENDAR