BEGIN:VCALENDAR
VERSION:2.0
PRODID:-//SRS US High School - ECPv6.15.20//NONSGML v1.0//EN
CALSCALE:GREGORIAN
METHOD:PUBLISH
X-WR-CALNAME:SRS US High School
X-ORIGINAL-URL:https://srsusdubai.ae
X-WR-CALDESC:Events for SRS US High School
REFRESH-INTERVAL;VALUE=DURATION:PT1H
X-Robots-Tag:noindex
X-PUBLISHED-TTL:PT1H
BEGIN:VTIMEZONE
TZID:Asia/Dubai
BEGIN:STANDARD
TZOFFSETFROM:+0400
TZOFFSETTO:+0400
TZNAME:+04
DTSTART:20200101T000000
END:STANDARD
END:VTIMEZONE
BEGIN:VTIMEZONE
TZID:UTC
BEGIN:STANDARD
TZOFFSETFROM:+0000
TZOFFSETTO:+0000
TZNAME:UTC
DTSTART:20200101T000000
END:STANDARD
END:VTIMEZONE
BEGIN:VEVENT
DTSTART;VALUE=DATE:20220919
DTEND;VALUE=DATE:20220920
DTSTAMP:20260423T072421
CREATED:20220626T064548Z
LAST-MODIFIED:20220912T115647Z
UID:10317-1663545600-1663631999@srsusdubai.ae
SUMMARY:Youth Mental Health Day
DESCRIPTION:Youth Mental Health Day encourages understanding and discussion of mental health in young people\, enabling them to live happy and healthy lives all year round. Each year\, the day aims to get young people\, and those who support them\, talking about how to improve mental health.
URL:https://srsusdubai.ae/calendar/youth-mental-health-day/
LOCATION:School of Research Science\, Dubai\, United Arab Emirates
CATEGORIES:International Event,Term 1,Uk Calendar
END:VEVENT
BEGIN:VEVENT
DTSTART;VALUE=DATE:20220919
DTEND;VALUE=DATE:20220920
DTSTAMP:20260423T072421
CREATED:20220626T064400Z
LAST-MODIFIED:20220912T091723Z
UID:10315-1663545600-1663631999@srsusdubai.ae
SUMMARY:Curriculum Afternoon for FS
DESCRIPTION:These are opportunities for parents to learn what learning looks like in the classroom. For Term 1 this will be Maths/HPL focused.
URL:https://srsusdubai.ae/calendar/fs-curriculum-afternoon/
LOCATION:School of Research Science\, Dubai\, United Arab Emirates
CATEGORIES:Term 1,Uk Calendar
END:VEVENT
BEGIN:VEVENT
DTSTART;VALUE=DATE:20220915
DTEND;VALUE=DATE:20220916
DTSTAMP:20260423T072421
CREATED:20220626T064029Z
LAST-MODIFIED:20220912T091426Z
UID:10313-1663200000-1663286399@srsusdubai.ae
SUMMARY:Welcome Day for Year 10 & 11
DESCRIPTION:Welcome Day for Year 10 & 11 (After school)
URL:https://srsusdubai.ae/calendar/welcome-day/
LOCATION:School of Research Science\, Dubai\, United Arab Emirates
CATEGORIES:Term 1,Uk Calendar
END:VEVENT
BEGIN:VEVENT
DTSTART;VALUE=DATE:20220915
DTEND;VALUE=DATE:20220916
DTSTAMP:20260423T072421
CREATED:20220626T063918Z
LAST-MODIFIED:20220912T091119Z
UID:10311-1663200000-1663286399@srsusdubai.ae
SUMMARY:Awards Evening for Year 6 & 7
DESCRIPTION:Awards Evening for Year 6 & 7 students.
URL:https://srsusdubai.ae/calendar/awards-evening/
CATEGORIES:Term 1,Uk Calendar
END:VEVENT
BEGIN:VEVENT
DTSTART;VALUE=DATE:20220914
DTEND;VALUE=DATE:20220915
DTSTAMP:20260423T072421
CREATED:20220617T054211Z
LAST-MODIFIED:20220912T091059Z
UID:10148-1663113600-1663199999@srsusdubai.ae
SUMMARY:Welcome Day for Year 10 & 11 (After school)
DESCRIPTION:Welcome Day for Year 10 & 11 (After school)
URL:https://srsusdubai.ae/calendar/welcome-day-after-school/
CATEGORIES:Term 1,Uk Calendar
END:VEVENT
BEGIN:VEVENT
DTSTART;VALUE=DATE:20220914
DTEND;VALUE=DATE:20220915
DTSTAMP:20260423T072421
CREATED:20220617T052543Z
LAST-MODIFIED:20220912T085424Z
UID:10146-1663113600-1663199999@srsusdubai.ae
SUMMARY:Awards Evening for Year 5
DESCRIPTION:Awards Evening for Year 5  Students
URL:https://srsusdubai.ae/calendar/year-5-awards-evening/
CATEGORIES:Term 1,Uk Calendar
END:VEVENT
BEGIN:VEVENT
DTSTART;VALUE=DATE:20220913
DTEND;VALUE=DATE:20220914
DTSTAMP:20260423T072421
CREATED:20220617T051513Z
LAST-MODIFIED:20220912T091138Z
UID:10144-1663027200-1663113599@srsusdubai.ae
SUMMARY:Welcome Meeting for Year 7 to 13 (After School)
DESCRIPTION:Welcome Meeting for Year 7 to 13 (After school)
URL:https://srsusdubai.ae/calendar/welcome-meeting-after-school/
CATEGORIES:Local Event,Term 1,Uk Calendar
END:VEVENT
BEGIN:VEVENT
DTSTART;VALUE=DATE:20220913
DTEND;VALUE=DATE:20220914
DTSTAMP:20260423T072421
CREATED:20220617T035755Z
LAST-MODIFIED:20220912T091220Z
UID:10138-1663027200-1663113599@srsusdubai.ae
SUMMARY:Welcome Meeting for Year 3 & 4
DESCRIPTION:Parents are introduced to the leaders for their children’s year groups and are informed of key information to support  the year ahead.
URL:https://srsusdubai.ae/calendar/year-3-and-4-welcome-meeting/
CATEGORIES:Term 1,Uk Calendar
END:VEVENT
BEGIN:VEVENT
DTSTART;VALUE=DATE:20220912
DTEND;VALUE=DATE:20220913
DTSTAMP:20260423T072421
CREATED:20220617T035231Z
LAST-MODIFIED:20220912T091531Z
UID:10134-1662940800-1663027199@srsusdubai.ae
SUMMARY:Welcome Meeting for FS
DESCRIPTION:Parents are introduced to the leaders for their children’s year groups and are informed of key information to support the year ahead.
URL:https://srsusdubai.ae/calendar/fs-welcome-meeting-fisrt-full-day-for-fs-students/
CATEGORIES:Term 1,Uk Calendar
END:VEVENT
BEGIN:VEVENT
DTSTART;VALUE=DATE:20220908
DTEND;VALUE=DATE:20220909
DTSTAMP:20260423T072421
CREATED:20220617T040656Z
LAST-MODIFIED:20220912T115304Z
UID:10142-1662595200-1662681599@srsusdubai.ae
SUMMARY:International Literacy Day
DESCRIPTION:Since 1967\, International Literacy Day (ILD) celebrations have taken place annually around the world to remind the public of the importance of literacy as a matter of dignity and human rights\, and to advance the literacy agenda towards a more literate and sustainable society. \nThis celebration was declared by UNESCO on 26 October 1966 at the 14th session of UNESCO’s General Conference. It was celebrated for the first time in 1967. \nThe aim of this is to highlight the importance of literacy to individuals\, communities and societies.
URL:https://srsusdubai.ae/calendar/international-literacy-day/
CATEGORIES:International Event,Term 1,Uk Calendar
END:VEVENT
BEGIN:VEVENT
DTSTART;VALUE=DATE:20220908
DTEND;VALUE=DATE:20220909
DTSTAMP:20260423T072421
CREATED:20220617T040457Z
LAST-MODIFIED:20220912T091607Z
UID:10140-1662595200-1662681599@srsusdubai.ae
SUMMARY:Welcome Meeting for Year 5 & 6
DESCRIPTION:Parents are introduced to the leaders for their children’s year groups and are informed of key information to support the year ahead.
URL:https://srsusdubai.ae/calendar/year-5-and-6-welcome-meeting/
CATEGORIES:Term 1,Uk Calendar
END:VEVENT
BEGIN:VEVENT
DTSTART;VALUE=DATE:20220906
DTEND;VALUE=DATE:20220907
DTSTAMP:20260423T072421
CREATED:20220617T035652Z
LAST-MODIFIED:20220912T091439Z
UID:10136-1662422400-1662508799@srsusdubai.ae
SUMMARY:Welcome Meeting for Year 1 & 2
DESCRIPTION:Parents are introduced to the leaders for their children’s year groups and are informed of key information to support the year ahead.
URL:https://srsusdubai.ae/calendar/year-1-and-2-welcome-meeting/
CATEGORIES:Term 1,Uk Calendar
END:VEVENT
BEGIN:VEVENT
DTSTART;VALUE=DATE:20220905
DTEND;VALUE=DATE:20220910
DTSTAMP:20260423T072421
CREATED:20220617T034903Z
LAST-MODIFIED:20220914T100730Z
UID:10132-1662336000-1662767999@srsusdubai.ae
SUMMARY:Year 7 and Year 9 CAT 4 Exam Week (05-09/09)
DESCRIPTION:CAT tests for all year 7 and Year 9 Students
URL:https://srsusdubai.ae/calendar/year-7-and-year-9-cat-4-exam-week-05-09-09/
CATEGORIES:Term 1,Uk Calendar
END:VEVENT
BEGIN:VEVENT
DTSTART;VALUE=DATE:20220902
DTEND;VALUE=DATE:20220903
DTSTAMP:20260423T072421
CREATED:20220617T033712Z
LAST-MODIFIED:20220831T092832Z
UID:10127-1662076800-1662163199@srsusdubai.ae
SUMMARY:Start of Early Qur'an and Extra-Curricular Activities
DESCRIPTION:A program that helps students to memorize the Qur’an\, and the program runs 4 days a week from 7:00am until 7:25am
URL:https://srsusdubai.ae/calendar/start-of-early-quran-and-extra-curricular-activities-3/
CATEGORIES:Term 1,Uk Calendar
END:VEVENT
BEGIN:VEVENT
DTSTART;VALUE=DATE:20220901
DTEND;VALUE=DATE:20220902
DTSTAMP:20260423T072421
CREATED:20220617T033516Z
LAST-MODIFIED:20220831T092832Z
UID:10125-1661990400-1662076799@srsusdubai.ae
SUMMARY:Start of Early Qur'an and Extra-Curricular Activities
DESCRIPTION:A program that helps students to memorize the Qur’an\, and the program runs 4 days a week from 7:00am until 7:25am
URL:https://srsusdubai.ae/calendar/start-of-early-quran-and-extra-curricular-activities-2/
CATEGORIES:Term 1,Uk Calendar
END:VEVENT
BEGIN:VEVENT
DTSTART;VALUE=DATE:20220824
DTEND;VALUE=DATE:20220827
DTSTAMP:20260423T072421
CREATED:20220804T051725Z
LAST-MODIFIED:20220831T092833Z
UID:10404-1661299200-1661558399@srsusdubai.ae
SUMMARY:FS 'Stay and Play'
DESCRIPTION:This is a short session of no more than an hour for the parents to see the classrooms\, meet the teacher and have a tour of the Primary building.
URL:https://srsusdubai.ae/calendar/fs-stay-and-play/
LOCATION:School of Research Science\, Dubai\, United Arab Emirates
CATEGORIES:Term 1,Uk Calendar
END:VEVENT
BEGIN:VEVENT
DTSTART;VALUE=DATE:20211212
DTEND;VALUE=DATE:20211231
DTSTAMP:20260423T072421
CREATED:20220227T102439Z
LAST-MODIFIED:20220831T092835Z
UID:6730-1639267200-1640908799@srsusdubai.ae
SUMMARY:End of Term 1 Break
DESCRIPTION:Pupils in private schools will get a three-week winter break that starts on December 12 2021 till December 30 2021.
URL:https://srsusdubai.ae/calendar/end-of-term-1-break/
LOCATION:School of Research Science\, Dubai\, United Arab Emirates
CATEGORIES:Term 1,Uk Calendar,Whole School
ATTACH;FMTTYPE=image/png:https://srsusdubai.ae/wp-content/uploads/2022/02/SRS-07.png
END:VEVENT
BEGIN:VEVENT
DTSTART;VALUE=DATE:20211202
DTEND;VALUE=DATE:20211204
DTSTAMP:20260423T072421
CREATED:20220227T100042Z
LAST-MODIFIED:20220831T092835Z
UID:6720-1638403200-1638575999@srsusdubai.ae
SUMMARY:National Day
DESCRIPTION:UAE National Day is celebrated on 2 December each year in the United Arab Emirates. The seventh emirate\, Ras al Khaimah\, was added to the federation on 10 February 1972 making it the last emirate to join.
URL:https://srsusdubai.ae/calendar/national-day/
LOCATION:School of Research Science\, Dubai\, United Arab Emirates
CATEGORIES:Public Holiday,Term 1,Uk Calendar,Whole School
ATTACH;FMTTYPE=image/png:https://srsusdubai.ae/wp-content/uploads/2022/02/SRS-06.png
END:VEVENT
BEGIN:VEVENT
DTSTART;VALUE=DATE:20211201
DTEND;VALUE=DATE:20211202
DTSTAMP:20260423T072421
CREATED:20220227T000242Z
LAST-MODIFIED:20220831T092853Z
UID:6688-1638316800-1638403199@srsusdubai.ae
SUMMARY:Commemoration Day
DESCRIPTION:
URL:https://srsusdubai.ae/calendar/commemoration-day/
LOCATION:School of Research Science\, Dubai\, United Arab Emirates
CATEGORIES:Public Holiday,Term 1,Uk Calendar,Whole School
ATTACH;FMTTYPE=image/png:https://srsusdubai.ae/wp-content/uploads/2022/02/SRS-05.png
END:VEVENT
BEGIN:VEVENT
DTSTART;VALUE=DATE:20211031
DTEND;VALUE=DATE:20211101
DTSTAMP:20260423T072421
CREATED:20220226T233256Z
LAST-MODIFIED:20240227T050048Z
UID:6667-1635638400-1635724799@srsusdubai.ae
SUMMARY:Return to School
DESCRIPTION:Dubai: UAE authorities approved on 31st Oct 2021 the academic calendar for Return to School.
URL:https://srsusdubai.ae/calendar/return-to-school/
LOCATION:School of Research Science\, Dubai\, United Arab Emirates
CATEGORIES:Term 1,Uk Calendar,Whole School
ATTACH;FMTTYPE=image/png:https://srsusdubai.ae/wp-content/uploads/2022/02/SRS-04.png
END:VEVENT
BEGIN:VEVENT
DTSTART;VALUE=DATE:20211027
DTEND;VALUE=DATE:20211029
DTSTAMP:20260423T072421
CREATED:20220226T233042Z
LAST-MODIFIED:20220831T092854Z
UID:6665-1635292800-1635465599@srsusdubai.ae
SUMMARY:Half Term Holiday
DESCRIPTION:Dubai: UAE authorities approved on 27th and 28th Oct 2021 the academic calendar for Half Term Holiday.
URL:https://srsusdubai.ae/calendar/half-term-holiday/
LOCATION:School of Research Science\, Dubai\, United Arab Emirates
CATEGORIES:Term 1,Uk Calendar,Whole School
ATTACH;FMTTYPE=image/png:https://srsusdubai.ae/wp-content/uploads/2022/02/SRS-03.png
END:VEVENT
BEGIN:VEVENT
DTSTART;VALUE=DATE:20210829
DTEND;VALUE=DATE:20210830
DTSTAMP:20260423T072421
CREATED:20220216T090755Z
LAST-MODIFIED:20240117T073702Z
UID:5818-1630195200-1630281599@srsusdubai.ae
SUMMARY:Term 1 Begins
DESCRIPTION:Term 1 starts on Sunday 29 August 2021\, all students and teachers should start immediately in the day.
URL:https://srsusdubai.ae/calendar/term-1-begins/
LOCATION:School of Research Science\, Dubai\, United Arab Emirates
CATEGORIES:Term 1,Uk Calendar,Whole School
ATTACH;FMTTYPE=image/png:https://srsusdubai.ae/wp-content/uploads/2022/02/SRS-01.png
END:VEVENT
END:VCALENDAR