BEGIN:VCALENDAR
VERSION:2.0
PRODID:-//SRS US High School - ECPv6.15.20//NONSGML v1.0//EN
CALSCALE:GREGORIAN
METHOD:PUBLISH
X-WR-CALNAME:SRS US High School
X-ORIGINAL-URL:https://srsusdubai.ae
X-WR-CALDESC:Events for SRS US High School
REFRESH-INTERVAL;VALUE=DURATION:PT1H
X-Robots-Tag:noindex
X-PUBLISHED-TTL:PT1H
BEGIN:VTIMEZONE
TZID:Asia/Dubai
BEGIN:STANDARD
TZOFFSETFROM:+0400
TZOFFSETTO:+0400
TZNAME:+04
DTSTART:20210101T000000
END:STANDARD
END:VTIMEZONE
BEGIN:VEVENT
DTSTART;VALUE=DATE:20231012
DTEND;VALUE=DATE:20231013
DTSTAMP:20260422T190127
CREATED:20231120T034051Z
LAST-MODIFIED:20231120T034051Z
UID:16917-1697068800-1697155199@srsusdubai.ae
SUMMARY:Camp Grade 10 Boys
DESCRIPTION:Camp Grade 10 Boys
URL:https://srsusdubai.ae/calendar/camp-grade-10-boys/
CATEGORIES:Term 1,Trips/Camps/Visits,US Calendar
END:VEVENT
BEGIN:VEVENT
DTSTART;VALUE=DATE:20231012
DTEND;VALUE=DATE:20231013
DTSTAMP:20260422T190127
CREATED:20231120T033954Z
LAST-MODIFIED:20231120T033954Z
UID:16915-1697068800-1697155199@srsusdubai.ae
SUMMARY:My Social Responsibility Grade 11 Boys
DESCRIPTION:My Social Responsibility Grade 11 Boys
URL:https://srsusdubai.ae/calendar/my-social-responsibility-grade-11-boys/
LOCATION:School of Research Science\, Dubai\, United Arab Emirates
CATEGORIES:Term 1,US Calendar
END:VEVENT
BEGIN:VEVENT
DTSTART;VALUE=DATE:20231010
DTEND;VALUE=DATE:20231011
DTSTAMP:20260422T190127
CREATED:20231120T033916Z
LAST-MODIFIED:20231120T033916Z
UID:16913-1696896000-1696982399@srsusdubai.ae
SUMMARY:My Social Responsibility Grade 11 Girls
DESCRIPTION:My Social Responsibility Grade 11 Girls
URL:https://srsusdubai.ae/calendar/my-social-responsibility-grade-11-girls/
LOCATION:School of Research Science\, Dubai\, United Arab Emirates
CATEGORIES:Term 1,US Calendar
END:VEVENT
BEGIN:VEVENT
DTSTART;VALUE=DATE:20231009
DTEND;VALUE=DATE:20231010
DTSTAMP:20260422T190127
CREATED:20231120T033846Z
LAST-MODIFIED:20231120T033846Z
UID:16911-1696809600-1696895999@srsusdubai.ae
SUMMARY:World Mental Health Day
DESCRIPTION:World Mental Health Day
URL:https://srsusdubai.ae/calendar/world-mental-health-day-2/
CATEGORIES:International Event,Term 1,US Calendar
END:VEVENT
BEGIN:VEVENT
DTSTART;VALUE=DATE:20231009
DTEND;VALUE=DATE:20231014
DTSTAMP:20260422T190127
CREATED:20231120T033736Z
LAST-MODIFIED:20231120T033736Z
UID:16909-1696809600-1697241599@srsusdubai.ae
SUMMARY:MAP Grade 9
DESCRIPTION:MAP Grade 9
URL:https://srsusdubai.ae/calendar/map-grade-9/
LOCATION:School of Research Science\, Dubai\, United Arab Emirates
CATEGORIES:Term 1,US Calendar
END:VEVENT
BEGIN:VEVENT
DTSTART;VALUE=DATE:20231007
DTEND;VALUE=DATE:20231008
DTSTAMP:20260422T190127
CREATED:20231120T033625Z
LAST-MODIFIED:20231120T033625Z
UID:16907-1696636800-1696723199@srsusdubai.ae
SUMMARY:SAT
DESCRIPTION:SAT
URL:https://srsusdubai.ae/calendar/sat-6/
LOCATION:School of Research Science\, Dubai\, United Arab Emirates
CATEGORIES:Term 1,US Calendar
END:VEVENT
BEGIN:VEVENT
DTSTART;VALUE=DATE:20231003
DTEND;VALUE=DATE:20231004
DTSTAMP:20260422T190127
CREATED:20231120T033453Z
LAST-MODIFIED:20231120T033453Z
UID:16905-1696291200-1696377599@srsusdubai.ae
SUMMARY:Morning Announcements
DESCRIPTION:Morning Announcements
URL:https://srsusdubai.ae/calendar/morning-announcements/
LOCATION:School of Research Science\, Dubai\, United Arab Emirates
CATEGORIES:Term 1,US Calendar
END:VEVENT
BEGIN:VEVENT
DTSTART;VALUE=DATE:20231003
DTEND;VALUE=DATE:20231005
DTSTAMP:20260422T190127
CREATED:20231120T033417Z
LAST-MODIFIED:20231120T033417Z
UID:16903-1696291200-1696463999@srsusdubai.ae
SUMMARY:Affirmations Activities
DESCRIPTION:Affirmations Activities
URL:https://srsusdubai.ae/calendar/affirmations-activities/
LOCATION:School of Research Science\, Dubai\, United Arab Emirates
CATEGORIES:Term 1,US Calendar
END:VEVENT
BEGIN:VEVENT
DTSTART;VALUE=DATE:20231002
DTEND;VALUE=DATE:20231010
DTSTAMP:20260422T190127
CREATED:20231120T033329Z
LAST-MODIFIED:20231120T033329Z
UID:16899-1696204800-1696895999@srsusdubai.ae
SUMMARY:Career Day -  for  Girls
DESCRIPTION:Career Day –  for  Girls
URL:https://srsusdubai.ae/calendar/career-day-for-girls/
LOCATION:School of Research Science\, Dubai\, United Arab Emirates
CATEGORIES:Term 1,US Calendar
END:VEVENT
BEGIN:VEVENT
DTSTART;VALUE=DATE:20231002
DTEND;VALUE=DATE:20231003
DTSTAMP:20260422T190127
CREATED:20231120T033256Z
LAST-MODIFIED:20231120T033256Z
UID:16900-1696204800-1696291199@srsusdubai.ae
SUMMARY:International Day of older persons visit
DESCRIPTION:International Day of older persons visit
URL:https://srsusdubai.ae/calendar/international-day-of-older-persons-visit/
CATEGORIES:Term 1,US Calendar
END:VEVENT
BEGIN:VEVENT
DTSTART;VALUE=DATE:20231002
DTEND;VALUE=DATE:20231007
DTSTAMP:20260422T190127
CREATED:20231120T033210Z
LAST-MODIFIED:20231120T033210Z
UID:16897-1696204800-1696636799@srsusdubai.ae
SUMMARY:MAP Grade 10
DESCRIPTION:MAP Grade 10
URL:https://srsusdubai.ae/calendar/map-grade-10/
LOCATION:School of Research Science\, Dubai\, United Arab Emirates
CATEGORIES:Term 1,US Calendar
END:VEVENT
BEGIN:VEVENT
DTSTART;VALUE=DATE:20230929
DTEND;VALUE=DATE:20230930
DTSTAMP:20260422T190127
CREATED:20230908T054720Z
LAST-MODIFIED:20230908T054720Z
UID:16414-1695945600-1696031999@srsusdubai.ae
SUMMARY:Prophet’s Birthday (PBUH) (Public Holiday)*
DESCRIPTION:Prophet’s Birthday (PBUH) (Public Holiday)*
URL:https://srsusdubai.ae/calendar/prophets-birthday-pbuh-public-holiday/
CATEGORIES:Public Holiday,Term 1,US Calendar
END:VEVENT
BEGIN:VEVENT
DTSTART;VALUE=DATE:20230828
DTEND;VALUE=DATE:20230829
DTSTAMP:20260422T190127
CREATED:20230908T055524Z
LAST-MODIFIED:20240227T045403Z
UID:16416-1693180800-1693267199@srsusdubai.ae
SUMMARY:Term 1 Begins
DESCRIPTION:Term 1 Begins
URL:https://srsusdubai.ae/calendar/term-1-begins-4/
CATEGORIES:Term 1,US Calendar
END:VEVENT
BEGIN:VEVENT
DTSTART;VALUE=DATE:20230719
DTEND;VALUE=DATE:20230720
DTSTAMP:20260422T190127
CREATED:20230908T054536Z
LAST-MODIFIED:20230908T054543Z
UID:16410-1689724800-1689811199@srsusdubai.ae
SUMMARY:Hijri (Islamic New Year – Public Holiday)
DESCRIPTION:Hijri (Islamic New Year – Public Holiday)
URL:https://srsusdubai.ae/calendar/hijri-islamic-new-year-public-holiday/
CATEGORIES:Public Holiday,Term 1,US Calendar
END:VEVENT
BEGIN:VEVENT
DTSTART;VALUE=DATE:20221221
DTEND;VALUE=DATE:20221222
DTSTAMP:20260422T190127
CREATED:20221120T063245Z
LAST-MODIFIED:20221120T063245Z
UID:12612-1671580800-1671667199@srsusdubai.ae
SUMMARY:Year 7 and 8 Turkey Trip
DESCRIPTION:Year 7 and 8 Turkey Trip
URL:https://srsusdubai.ae/calendar/year-7-and-8-turkey-trip/
LOCATION:School of Research Science\, Dubai\, United Arab Emirates
CATEGORIES:Term 1,Uk Calendar
END:VEVENT
BEGIN:VEVENT
DTSTART;VALUE=DATE:20221218
DTEND;VALUE=DATE:20221231
DTSTAMP:20260422T190127
CREATED:20221120T063215Z
LAST-MODIFIED:20221120T063215Z
UID:12607-1671321600-1672444799@srsusdubai.ae
SUMMARY:Winter Camp inside the School
DESCRIPTION:Winter Camp inside the School Year 5\, 6\, 7 and 8 for 2 weeks (18-12-2022 until 30-12-2022)
URL:https://srsusdubai.ae/calendar/winter-camp-inside-the-school/
LOCATION:School of Research Science\, Dubai\, United Arab Emirates
CATEGORIES:Term 1,Uk Calendar
END:VEVENT
BEGIN:VEVENT
DTSTART;VALUE=DATE:20221216
DTEND;VALUE=DATE:20221217
DTSTAMP:20260422T190127
CREATED:20221120T063117Z
LAST-MODIFIED:20221120T063117Z
UID:12606-1671148800-1671235199@srsusdubai.ae
SUMMARY:Girls Spain Trip
DESCRIPTION:Girls Spain Trip
URL:https://srsusdubai.ae/calendar/girls-spain-trip/
LOCATION:School of Research Science\, Dubai\, United Arab Emirates
CATEGORIES:Term 1,Uk Calendar
END:VEVENT
BEGIN:VEVENT
DTSTART;VALUE=DATE:20221210
DTEND;VALUE=DATE:20221211
DTSTAMP:20260422T190127
CREATED:20221120T063033Z
LAST-MODIFIED:20221120T063033Z
UID:12603-1670630400-1670716799@srsusdubai.ae
SUMMARY:Human Rights Day
DESCRIPTION:Human Rights Day is observed by the international community every year on 10 December. It commemorates the day in 1948 the United Nations General Assembly adopted the Universal Declaration of Human Rights.
URL:https://srsusdubai.ae/calendar/human-rights-day/
LOCATION:School of Research Science\, Dubai\, United Arab Emirates
CATEGORIES:International Event,Term 1,Uk Calendar
END:VEVENT
BEGIN:VEVENT
DTSTART;VALUE=DATE:20221210
DTEND;VALUE=DATE:20221211
DTSTAMP:20260422T190127
CREATED:20221120T062834Z
LAST-MODIFIED:20221120T062834Z
UID:12598-1670630400-1670716799@srsusdubai.ae
SUMMARY:Year 9 to 12 Boys UK Trip
DESCRIPTION:Year 9 to 12 Boys UK Trip
URL:https://srsusdubai.ae/calendar/year-9-to-12-boys-uk-trip/
LOCATION:School of Research Science\, Dubai\, United Arab Emirates
CATEGORIES:Term 1,Uk Calendar
END:VEVENT
BEGIN:VEVENT
DTSTART;VALUE=DATE:20221209
DTEND;VALUE=DATE:20221210
DTSTAMP:20260422T190127
CREATED:20221120T062756Z
LAST-MODIFIED:20221120T062756Z
UID:12597-1670544000-1670630399@srsusdubai.ae
SUMMARY:End of Term 1 Last Day
DESCRIPTION:End of Term 1 Last Day
URL:https://srsusdubai.ae/calendar/end-of-term-1-last-day/
LOCATION:School of Research Science\, Dubai\, United Arab Emirates
CATEGORIES:Term 1,Uk Calendar
END:VEVENT
BEGIN:VEVENT
DTSTART;VALUE=DATE:20221208
DTEND;VALUE=DATE:20221209
DTSTAMP:20260422T190127
CREATED:20221120T062714Z
LAST-MODIFIED:20221120T062714Z
UID:12590-1670457600-1670543999@srsusdubai.ae
SUMMARY:End of H11 Activities
DESCRIPTION:End of H11 Activities
URL:https://srsusdubai.ae/calendar/end-of-h11-activities/
LOCATION:School of Research Science\, Dubai\, United Arab Emirates
CATEGORIES:Term 1,Uk Calendar
END:VEVENT
BEGIN:VEVENT
DTSTART;VALUE=DATE:20221208
DTEND;VALUE=DATE:20221209
DTSTAMP:20260422T190127
CREATED:20221120T062540Z
LAST-MODIFIED:20221120T062648Z
UID:12587-1670457600-1670543999@srsusdubai.ae
SUMMARY:End of Term Report Distribution
DESCRIPTION:End of Term Report Distribution (UK SECONDARY) : Reports are sent home to parents.
URL:https://srsusdubai.ae/calendar/end-of-term-report-distribution/
LOCATION:School of Research Science\, Dubai\, United Arab Emirates
CATEGORIES:Term 1,Uk Calendar
END:VEVENT
BEGIN:VEVENT
DTSTART;VALUE=DATE:20221206
DTEND;VALUE=DATE:20221209
DTSTAMP:20260422T190127
CREATED:20221120T061440Z
LAST-MODIFIED:20221120T062459Z
UID:12583-1670284800-1670543999@srsusdubai.ae
SUMMARY:Arabic & Islamic Assessements Y1-12
DESCRIPTION:Arabic & Islamic Assessments: Test students on the standards that have been achieved within a specified period of time.
URL:https://srsusdubai.ae/calendar/arabic-islamic-assessements-y1-12/
LOCATION:School of Research Science\, Dubai\, United Arab Emirates
CATEGORIES:Term 1,Uk Calendar
END:VEVENT
BEGIN:VEVENT
DTSTART;VALUE=DATE:20221205
DTEND;VALUE=DATE:20221210
DTSTAMP:20260422T190127
CREATED:20221120T061354Z
LAST-MODIFIED:20221120T061354Z
UID:12582-1670198400-1670630399@srsusdubai.ae
SUMMARY:Year 11 Mock Exam
DESCRIPTION:Year 11 Mock Exam (5/12 to 9/12)
URL:https://srsusdubai.ae/calendar/year-11-mock-exam/
LOCATION:School of Research Science\, Dubai\, United Arab Emirates
CATEGORIES:Term 1,Uk Calendar
END:VEVENT
BEGIN:VEVENT
DTSTART;VALUE=DATE:20221205
DTEND;VALUE=DATE:20221206
DTSTAMP:20260422T190127
CREATED:20221120T061254Z
LAST-MODIFIED:20221120T061254Z
UID:12579-1670198400-1670284799@srsusdubai.ae
SUMMARY:Primary Achievement/Assessment Week
DESCRIPTION:Primary Assessments: Key internal  assessments in the core subjects.
URL:https://srsusdubai.ae/calendar/primary-achievement-assessment-week/
LOCATION:School of Research Science\, Dubai\, United Arab Emirates
CATEGORIES:Term 1,Uk Calendar
END:VEVENT
BEGIN:VEVENT
DTSTART;VALUE=DATE:20221202
DTEND;VALUE=DATE:20221204
DTSTAMP:20260422T190127
CREATED:20221120T061125Z
LAST-MODIFIED:20221120T061125Z
UID:12575-1669939200-1670111999@srsusdubai.ae
SUMMARY:National Day
DESCRIPTION:National Day
URL:https://srsusdubai.ae/calendar/national-day-2/
LOCATION:School of Research Science\, Dubai\, United Arab Emirates
CATEGORIES:Term 1,Uk Calendar
END:VEVENT
BEGIN:VEVENT
DTSTART;VALUE=DATE:20221201
DTEND;VALUE=DATE:20221202
DTSTAMP:20260422T190127
CREATED:20221120T061025Z
LAST-MODIFIED:20240227T051829Z
UID:12572-1669852800-1669939199@srsusdubai.ae
SUMMARY:Commemoration Day
DESCRIPTION:Commemoration Day
URL:https://srsusdubai.ae/calendar/commemoration-day-2/
LOCATION:School of Research Science\, Dubai\, United Arab Emirates
CATEGORIES:Term 1,Uk Calendar
END:VEVENT
BEGIN:VEVENT
DTSTART;VALUE=DATE:20221130
DTEND;VALUE=DATE:20221201
DTSTAMP:20260422T190127
CREATED:20221120T060952Z
LAST-MODIFIED:20221120T060952Z
UID:12568-1669766400-1669852799@srsusdubai.ae
SUMMARY:Spain Trip Girls
DESCRIPTION:Spain Trip Girls
URL:https://srsusdubai.ae/calendar/spain-trip-girls/
LOCATION:School of Research Science\, Dubai\, United Arab Emirates
CATEGORIES:Term 1,Uk Calendar
END:VEVENT
BEGIN:VEVENT
DTSTART;VALUE=DATE:20221130
DTEND;VALUE=DATE:20221201
DTSTAMP:20260422T190127
CREATED:20221120T060815Z
LAST-MODIFIED:20221120T060815Z
UID:12563-1669766400-1669852799@srsusdubai.ae
SUMMARY:Poets Village
DESCRIPTION:Poets Village for Year 9: An activity that students perform by representing some of the situations that occurred with the great poets and writers through the ages
URL:https://srsusdubai.ae/calendar/poets-village-3/
LOCATION:School of Research Science\, Dubai\, United Arab Emirates
CATEGORIES:Term 1,Uk Calendar
END:VEVENT
BEGIN:VEVENT
DTSTART;VALUE=DATE:20221129
DTEND;VALUE=DATE:20221130
DTSTAMP:20260422T190127
CREATED:20221120T060916Z
LAST-MODIFIED:20221120T060916Z
UID:12567-1669680000-1669766399@srsusdubai.ae
SUMMARY:National Day Celebration
DESCRIPTION:UAE National Day Celebration
URL:https://srsusdubai.ae/calendar/national-day-celebration/
LOCATION:School of Research Science\, Dubai\, United Arab Emirates
CATEGORIES:Term 1,Uk Calendar,US Calendar,Whole School
END:VEVENT
END:VCALENDAR