BEGIN:VCALENDAR
VERSION:2.0
PRODID:-//SRS US High School - ECPv6.15.20//NONSGML v1.0//EN
CALSCALE:GREGORIAN
METHOD:PUBLISH
X-ORIGINAL-URL:https://srsusdubai.ae
X-WR-CALDESC:Events for SRS US High School
REFRESH-INTERVAL;VALUE=DURATION:PT1H
X-Robots-Tag:noindex
X-PUBLISHED-TTL:PT1H
BEGIN:VTIMEZONE
TZID:Asia/Dubai
BEGIN:STANDARD
TZOFFSETFROM:+0400
TZOFFSETTO:+0400
TZNAME:+04
DTSTART:20210101T000000
END:STANDARD
END:VTIMEZONE
BEGIN:VEVENT
DTSTART;VALUE=DATE:20221216
DTEND;VALUE=DATE:20221217
DTSTAMP:20260422T203926
CREATED:20221120T063117Z
LAST-MODIFIED:20221120T063117Z
UID:12606-1671148800-1671235199@srsusdubai.ae
SUMMARY:Girls Spain Trip
DESCRIPTION:Girls Spain Trip
URL:https://srsusdubai.ae/calendar/girls-spain-trip/
LOCATION:School of Research Science\, Dubai\, United Arab Emirates
CATEGORIES:Term 1,Uk Calendar
END:VEVENT
BEGIN:VEVENT
DTSTART;VALUE=DATE:20221210
DTEND;VALUE=DATE:20221211
DTSTAMP:20260422T203926
CREATED:20221120T063033Z
LAST-MODIFIED:20221120T063033Z
UID:12603-1670630400-1670716799@srsusdubai.ae
SUMMARY:Human Rights Day
DESCRIPTION:Human Rights Day is observed by the international community every year on 10 December. It commemorates the day in 1948 the United Nations General Assembly adopted the Universal Declaration of Human Rights.
URL:https://srsusdubai.ae/calendar/human-rights-day/
LOCATION:School of Research Science\, Dubai\, United Arab Emirates
CATEGORIES:International Event,Term 1,Uk Calendar
END:VEVENT
BEGIN:VEVENT
DTSTART;VALUE=DATE:20221210
DTEND;VALUE=DATE:20221211
DTSTAMP:20260422T203926
CREATED:20221120T062834Z
LAST-MODIFIED:20221120T062834Z
UID:12598-1670630400-1670716799@srsusdubai.ae
SUMMARY:Year 9 to 12 Boys UK Trip
DESCRIPTION:Year 9 to 12 Boys UK Trip
URL:https://srsusdubai.ae/calendar/year-9-to-12-boys-uk-trip/
LOCATION:School of Research Science\, Dubai\, United Arab Emirates
CATEGORIES:Term 1,Uk Calendar
END:VEVENT
BEGIN:VEVENT
DTSTART;VALUE=DATE:20221209
DTEND;VALUE=DATE:20221210
DTSTAMP:20260422T203926
CREATED:20221120T062756Z
LAST-MODIFIED:20221120T062756Z
UID:12597-1670544000-1670630399@srsusdubai.ae
SUMMARY:End of Term 1 Last Day
DESCRIPTION:End of Term 1 Last Day
URL:https://srsusdubai.ae/calendar/end-of-term-1-last-day/
LOCATION:School of Research Science\, Dubai\, United Arab Emirates
CATEGORIES:Term 1,Uk Calendar
END:VEVENT
BEGIN:VEVENT
DTSTART;VALUE=DATE:20221208
DTEND;VALUE=DATE:20221209
DTSTAMP:20260422T203926
CREATED:20221120T062714Z
LAST-MODIFIED:20221120T062714Z
UID:12590-1670457600-1670543999@srsusdubai.ae
SUMMARY:End of H11 Activities
DESCRIPTION:End of H11 Activities
URL:https://srsusdubai.ae/calendar/end-of-h11-activities/
LOCATION:School of Research Science\, Dubai\, United Arab Emirates
CATEGORIES:Term 1,Uk Calendar
END:VEVENT
BEGIN:VEVENT
DTSTART;VALUE=DATE:20221208
DTEND;VALUE=DATE:20221209
DTSTAMP:20260422T203926
CREATED:20221120T062540Z
LAST-MODIFIED:20221120T062648Z
UID:12587-1670457600-1670543999@srsusdubai.ae
SUMMARY:End of Term Report Distribution
DESCRIPTION:End of Term Report Distribution (UK SECONDARY) : Reports are sent home to parents.
URL:https://srsusdubai.ae/calendar/end-of-term-report-distribution/
LOCATION:School of Research Science\, Dubai\, United Arab Emirates
CATEGORIES:Term 1,Uk Calendar
END:VEVENT
BEGIN:VEVENT
DTSTART;VALUE=DATE:20221206
DTEND;VALUE=DATE:20221209
DTSTAMP:20260422T203926
CREATED:20221120T061440Z
LAST-MODIFIED:20221120T062459Z
UID:12583-1670284800-1670543999@srsusdubai.ae
SUMMARY:Arabic & Islamic Assessements Y1-12
DESCRIPTION:Arabic & Islamic Assessments: Test students on the standards that have been achieved within a specified period of time.
URL:https://srsusdubai.ae/calendar/arabic-islamic-assessements-y1-12/
LOCATION:School of Research Science\, Dubai\, United Arab Emirates
CATEGORIES:Term 1,Uk Calendar
END:VEVENT
BEGIN:VEVENT
DTSTART;VALUE=DATE:20221205
DTEND;VALUE=DATE:20221210
DTSTAMP:20260422T203926
CREATED:20221120T061354Z
LAST-MODIFIED:20221120T061354Z
UID:12582-1670198400-1670630399@srsusdubai.ae
SUMMARY:Year 11 Mock Exam
DESCRIPTION:Year 11 Mock Exam (5/12 to 9/12)
URL:https://srsusdubai.ae/calendar/year-11-mock-exam/
LOCATION:School of Research Science\, Dubai\, United Arab Emirates
CATEGORIES:Term 1,Uk Calendar
END:VEVENT
BEGIN:VEVENT
DTSTART;VALUE=DATE:20221205
DTEND;VALUE=DATE:20221206
DTSTAMP:20260422T203926
CREATED:20221120T061254Z
LAST-MODIFIED:20221120T061254Z
UID:12579-1670198400-1670284799@srsusdubai.ae
SUMMARY:Primary Achievement/Assessment Week
DESCRIPTION:Primary Assessments: Key internal  assessments in the core subjects.
URL:https://srsusdubai.ae/calendar/primary-achievement-assessment-week/
LOCATION:School of Research Science\, Dubai\, United Arab Emirates
CATEGORIES:Term 1,Uk Calendar
END:VEVENT
BEGIN:VEVENT
DTSTART;VALUE=DATE:20221202
DTEND;VALUE=DATE:20221204
DTSTAMP:20260422T203926
CREATED:20221120T061125Z
LAST-MODIFIED:20221120T061125Z
UID:12575-1669939200-1670111999@srsusdubai.ae
SUMMARY:National Day
DESCRIPTION:National Day
URL:https://srsusdubai.ae/calendar/national-day-2/
LOCATION:School of Research Science\, Dubai\, United Arab Emirates
CATEGORIES:Term 1,Uk Calendar
END:VEVENT
BEGIN:VEVENT
DTSTART;VALUE=DATE:20221201
DTEND;VALUE=DATE:20221202
DTSTAMP:20260422T203926
CREATED:20221120T061025Z
LAST-MODIFIED:20240227T051829Z
UID:12572-1669852800-1669939199@srsusdubai.ae
SUMMARY:Commemoration Day
DESCRIPTION:Commemoration Day
URL:https://srsusdubai.ae/calendar/commemoration-day-2/
LOCATION:School of Research Science\, Dubai\, United Arab Emirates
CATEGORIES:Term 1,Uk Calendar
END:VEVENT
BEGIN:VEVENT
DTSTART;VALUE=DATE:20221130
DTEND;VALUE=DATE:20221201
DTSTAMP:20260422T203926
CREATED:20221120T060952Z
LAST-MODIFIED:20221120T060952Z
UID:12568-1669766400-1669852799@srsusdubai.ae
SUMMARY:Spain Trip Girls
DESCRIPTION:Spain Trip Girls
URL:https://srsusdubai.ae/calendar/spain-trip-girls/
LOCATION:School of Research Science\, Dubai\, United Arab Emirates
CATEGORIES:Term 1,Uk Calendar
END:VEVENT
BEGIN:VEVENT
DTSTART;VALUE=DATE:20221130
DTEND;VALUE=DATE:20221201
DTSTAMP:20260422T203926
CREATED:20221120T060815Z
LAST-MODIFIED:20221120T060815Z
UID:12563-1669766400-1669852799@srsusdubai.ae
SUMMARY:Poets Village
DESCRIPTION:Poets Village for Year 9: An activity that students perform by representing some of the situations that occurred with the great poets and writers through the ages
URL:https://srsusdubai.ae/calendar/poets-village-3/
LOCATION:School of Research Science\, Dubai\, United Arab Emirates
CATEGORIES:Term 1,Uk Calendar
END:VEVENT
BEGIN:VEVENT
DTSTART;VALUE=DATE:20221129
DTEND;VALUE=DATE:20221130
DTSTAMP:20260422T203926
CREATED:20221120T060916Z
LAST-MODIFIED:20221120T060916Z
UID:12567-1669680000-1669766399@srsusdubai.ae
SUMMARY:National Day Celebration
DESCRIPTION:UAE National Day Celebration
URL:https://srsusdubai.ae/calendar/national-day-celebration/
LOCATION:School of Research Science\, Dubai\, United Arab Emirates
CATEGORIES:Term 1,Uk Calendar,US Calendar,Whole School
END:VEVENT
BEGIN:VEVENT
DTSTART;VALUE=DATE:20221129
DTEND;VALUE=DATE:20221130
DTSTAMP:20260422T203926
CREATED:20221120T060645Z
LAST-MODIFIED:20221120T060645Z
UID:12560-1669680000-1669766399@srsusdubai.ae
SUMMARY:Poets Village
DESCRIPTION:Poets Village for  Year 8: An activity that students perform by representing some of the situations that occurred with the great poets and writers through the ages
URL:https://srsusdubai.ae/calendar/poets-village-2/
LOCATION:School of Research Science\, Dubai\, United Arab Emirates
CATEGORIES:Term 1,Uk Calendar
END:VEVENT
BEGIN:VEVENT
DTSTART;VALUE=DATE:20221128
DTEND;VALUE=DATE:20221129
DTSTAMP:20260422T203926
CREATED:20221120T060530Z
LAST-MODIFIED:20221120T060530Z
UID:12557-1669593600-1669679999@srsusdubai.ae
SUMMARY:Poets Village
DESCRIPTION:Poets Village for Year 7: An activity that students perform by representing some of the situations that occurred with the great poets and writers through the ages
URL:https://srsusdubai.ae/calendar/poets-village/
LOCATION:School of Research Science\, Dubai\, United Arab Emirates
CATEGORIES:Term 1,Uk Calendar
END:VEVENT
BEGIN:VEVENT
DTSTART;VALUE=DATE:20221128
DTEND;VALUE=DATE:20221210
DTSTAMP:20260422T203926
CREATED:20221120T060409Z
LAST-MODIFIED:20221120T060409Z
UID:12550-1669593600-1670630399@srsusdubai.ae
SUMMARY:Year 12 and Year 13 Mock Exam
DESCRIPTION:Year 12 and Year 13 Mock Exam (28/11 to 9/12)
URL:https://srsusdubai.ae/calendar/year-12-and-year-13-mock-exam/
LOCATION:School of Research Science\, Dubai\, United Arab Emirates
CATEGORIES:Term 1,Uk Calendar
END:VEVENT
BEGIN:VEVENT
DTSTART;VALUE=DATE:20221126
DTEND;VALUE=DATE:20221127
DTSTAMP:20260422T203926
CREATED:20221120T060240Z
LAST-MODIFIED:20221120T060240Z
UID:12547-1669420800-1669507199@srsusdubai.ae
SUMMARY:End of Dubai 30x30 fitness Challenge
DESCRIPTION:End of Dubai 30×30 fitness Challenge
URL:https://srsusdubai.ae/calendar/end-of-dubai-30x30-fitness-challenge/
LOCATION:School of Research Science\, Dubai\, United Arab Emirates
CATEGORIES:Term 1,Uk Calendar
END:VEVENT
BEGIN:VEVENT
DTSTART;VALUE=DATE:20221125
DTEND;VALUE=DATE:20221126
DTSTAMP:20260422T203926
CREATED:20221120T055919Z
LAST-MODIFIED:20221120T060122Z
UID:12543-1669334400-1669420799@srsusdubai.ae
SUMMARY:IMG camp
DESCRIPTION:Yr 8 G IMG camp
URL:https://srsusdubai.ae/calendar/yr-8-g-img-camp/
LOCATION:School of Research Science\, Dubai\, United Arab Emirates
CATEGORIES:Term 1,Uk Calendar
END:VEVENT
BEGIN:VEVENT
DTSTART;VALUE=DATE:20221125
DTEND;VALUE=DATE:20221126
DTSTAMP:20260422T203926
CREATED:20221120T055857Z
LAST-MODIFIED:20221120T060057Z
UID:12542-1669334400-1669420799@srsusdubai.ae
SUMMARY:Paintball camp
DESCRIPTION:Yr 7 B Paintball camp
URL:https://srsusdubai.ae/calendar/yr-7-b-paintball-camp/
LOCATION:School of Research Science\, Dubai\, United Arab Emirates
CATEGORIES:Term 1,Uk Calendar
END:VEVENT
BEGIN:VEVENT
DTSTART;VALUE=DATE:20221125
DTEND;VALUE=DATE:20221126
DTSTAMP:20260422T203926
CREATED:20221120T055825Z
LAST-MODIFIED:20221120T060039Z
UID:12539-1669334400-1669420799@srsusdubai.ae
SUMMARY:Safari Dubai park camp
DESCRIPTION:Yr 6 B Safari Dubai park camp
URL:https://srsusdubai.ae/calendar/yr-6-b-safari-dubai-park-camp/
LOCATION:School of Research Science\, Dubai\, United Arab Emirates
CATEGORIES:Term 1,Uk Calendar
END:VEVENT
BEGIN:VEVENT
DTSTART;VALUE=DATE:20221125
DTEND;VALUE=DATE:20221126
DTSTAMP:20260422T203926
CREATED:20221120T055738Z
LAST-MODIFIED:20221120T060129Z
UID:12536-1669334400-1669420799@srsusdubai.ae
SUMMARY:Aventura camp
DESCRIPTION:Aventura camp for Yr 4 G
URL:https://srsusdubai.ae/calendar/yr-4-g-aventura-camp/
LOCATION:School of Research Science\, Dubai\, United Arab Emirates
CATEGORIES:Term 1,Uk Calendar
END:VEVENT
BEGIN:VEVENT
DTSTART;VALUE=DATE:20221125
DTEND;VALUE=DATE:20221126
DTSTAMP:20260422T203926
CREATED:20221120T055700Z
LAST-MODIFIED:20221120T055700Z
UID:12533-1669334400-1669420799@srsusdubai.ae
SUMMARY:Dyslexia Awareness Day (SEN)
DESCRIPTION:Dyslexia Awareness Day (SEN)
URL:https://srsusdubai.ae/calendar/dyslexia-awareness-day-sen/
LOCATION:School of Research Science\, Dubai\, United Arab Emirates
CATEGORIES:SEND,Term 1,Uk Calendar
END:VEVENT
BEGIN:VEVENT
DTSTART;VALUE=DATE:20221125
DTEND;VALUE=DATE:20221126
DTSTAMP:20260422T203926
CREATED:20221120T055621Z
LAST-MODIFIED:20240227T052749Z
UID:12530-1669334400-1669420799@srsusdubai.ae
SUMMARY:Arabic Champions League Y4-10
DESCRIPTION:Arabic Champions League: A competition to developing students in basic information in all Arabic subjects.
URL:https://srsusdubai.ae/calendar/arabic-champions-league-y4-10-2/
LOCATION:School of Research Science\, Dubai\, United Arab Emirates
CATEGORIES:Term 1,Uk Calendar
END:VEVENT
BEGIN:VEVENT
DTSTART;VALUE=DATE:20221125
DTEND;VALUE=DATE:20221126
DTSTAMP:20260422T203926
CREATED:20221120T055421Z
LAST-MODIFIED:20221120T055421Z
UID:12527-1669334400-1669420799@srsusdubai.ae
SUMMARY:Secondary Parent Consultation Meetings
DESCRIPTION:Secondary Parent Consultation Meetings
URL:https://srsusdubai.ae/calendar/secondary-parent-consultation-meetings-2/
LOCATION:School of Research Science\, Dubai\, United Arab Emirates
CATEGORIES:Term 1,Uk Calendar
END:VEVENT
BEGIN:VEVENT
DTSTART;VALUE=DATE:20221124
DTEND;VALUE=DATE:20221125
DTSTAMP:20260422T203926
CREATED:20220927T092030Z
LAST-MODIFIED:20220927T092030Z
UID:12175-1669248000-1669334399@srsusdubai.ae
SUMMARY:Football Tournament
DESCRIPTION:Football Tournament Year 5 and 6 n the occasion of National day.
URL:https://srsusdubai.ae/calendar/football-tournament/
LOCATION:School of Research Science\, Dubai\, United Arab Emirates
CATEGORIES:Term 1,Uk Calendar
END:VEVENT
BEGIN:VEVENT
DTSTART;VALUE=DATE:20221124
DTEND;VALUE=DATE:20221125
DTSTAMP:20260422T203926
CREATED:20220927T084906Z
LAST-MODIFIED:20220927T084906Z
UID:12173-1669248000-1669334399@srsusdubai.ae
SUMMARY:End of Term 1 After School Activities
DESCRIPTION:Term 1 After School Activities will end
URL:https://srsusdubai.ae/calendar/end-of-term-1-after-school-activities/
LOCATION:School of Research Science\, Dubai\, United Arab Emirates
CATEGORIES:Term 1,Uk Calendar
END:VEVENT
BEGIN:VEVENT
DTSTART;VALUE=DATE:20221124
DTEND;VALUE=DATE:20221125
DTSTAMP:20260422T203926
CREATED:20220927T084704Z
LAST-MODIFIED:20220927T084704Z
UID:12171-1669248000-1669334399@srsusdubai.ae
SUMMARY:Arabic Champions League
DESCRIPTION:Arabic Champions League Y4-10
URL:https://srsusdubai.ae/calendar/arabic-champions-league-5/
LOCATION:School of Research Science\, Dubai\, United Arab Emirates
CATEGORIES:Term 1,Uk Calendar
END:VEVENT
BEGIN:VEVENT
DTSTART;VALUE=DATE:20221124
DTEND;VALUE=DATE:20221125
DTSTAMP:20260422T203926
CREATED:20220927T084437Z
LAST-MODIFIED:20220927T084437Z
UID:12169-1669248000-1669334399@srsusdubai.ae
SUMMARY:Primary Parent Consultation Meetings
DESCRIPTION:Primary Parent  Consultation Meetings
URL:https://srsusdubai.ae/calendar/primary-parent-consultation-meetings/
LOCATION:School of Research Science\, Dubai\, United Arab Emirates
CATEGORIES:Term 1,Uk Calendar
END:VEVENT
BEGIN:VEVENT
DTSTART;VALUE=DATE:20221123
DTEND;VALUE=DATE:20221124
DTSTAMP:20260422T203926
CREATED:20220927T084401Z
LAST-MODIFIED:20220927T084401Z
UID:12167-1669161600-1669247999@srsusdubai.ae
SUMMARY:Evening Football Tournament
DESCRIPTION:Evening Football Tournament Y9\, 10 and 11 (UK\, US)
URL:https://srsusdubai.ae/calendar/evening-football-tournament-2/
LOCATION:School of Research Science\, Dubai\, United Arab Emirates
CATEGORIES:Term 1,Uk Calendar
END:VEVENT
END:VCALENDAR