BEGIN:VCALENDAR
VERSION:2.0
PRODID:-//SRS US High School - ECPv6.15.20//NONSGML v1.0//EN
CALSCALE:GREGORIAN
METHOD:PUBLISH
X-WR-CALNAME:SRS US High School
X-ORIGINAL-URL:https://srsusdubai.ae
X-WR-CALDESC:Events for SRS US High School
REFRESH-INTERVAL;VALUE=DURATION:PT1H
X-Robots-Tag:noindex
X-PUBLISHED-TTL:PT1H
BEGIN:VTIMEZONE
TZID:Asia/Dubai
BEGIN:STANDARD
TZOFFSETFROM:+0400
TZOFFSETTO:+0400
TZNAME:+04
DTSTART:20210101T000000
END:STANDARD
END:VTIMEZONE
BEGIN:VEVENT
DTSTART;VALUE=DATE:20221128
DTEND;VALUE=DATE:20221210
DTSTAMP:20260422T221533
CREATED:20221120T060409Z
LAST-MODIFIED:20221120T060409Z
UID:12550-1669593600-1670630399@srsusdubai.ae
SUMMARY:Year 12 and Year 13 Mock Exam
DESCRIPTION:Year 12 and Year 13 Mock Exam (28/11 to 9/12)
URL:https://srsusdubai.ae/calendar/year-12-and-year-13-mock-exam/
LOCATION:School of Research Science\, Dubai\, United Arab Emirates
CATEGORIES:Term 1,Uk Calendar
END:VEVENT
BEGIN:VEVENT
DTSTART;VALUE=DATE:20221126
DTEND;VALUE=DATE:20221127
DTSTAMP:20260422T221533
CREATED:20221120T060240Z
LAST-MODIFIED:20221120T060240Z
UID:12547-1669420800-1669507199@srsusdubai.ae
SUMMARY:End of Dubai 30x30 fitness Challenge
DESCRIPTION:End of Dubai 30×30 fitness Challenge
URL:https://srsusdubai.ae/calendar/end-of-dubai-30x30-fitness-challenge/
LOCATION:School of Research Science\, Dubai\, United Arab Emirates
CATEGORIES:Term 1,Uk Calendar
END:VEVENT
BEGIN:VEVENT
DTSTART;VALUE=DATE:20221125
DTEND;VALUE=DATE:20221126
DTSTAMP:20260422T221533
CREATED:20221120T055919Z
LAST-MODIFIED:20221120T060122Z
UID:12543-1669334400-1669420799@srsusdubai.ae
SUMMARY:IMG camp
DESCRIPTION:Yr 8 G IMG camp
URL:https://srsusdubai.ae/calendar/yr-8-g-img-camp/
LOCATION:School of Research Science\, Dubai\, United Arab Emirates
CATEGORIES:Term 1,Uk Calendar
END:VEVENT
BEGIN:VEVENT
DTSTART;VALUE=DATE:20221125
DTEND;VALUE=DATE:20221126
DTSTAMP:20260422T221533
CREATED:20221120T055857Z
LAST-MODIFIED:20221120T060057Z
UID:12542-1669334400-1669420799@srsusdubai.ae
SUMMARY:Paintball camp
DESCRIPTION:Yr 7 B Paintball camp
URL:https://srsusdubai.ae/calendar/yr-7-b-paintball-camp/
LOCATION:School of Research Science\, Dubai\, United Arab Emirates
CATEGORIES:Term 1,Uk Calendar
END:VEVENT
BEGIN:VEVENT
DTSTART;VALUE=DATE:20221125
DTEND;VALUE=DATE:20221126
DTSTAMP:20260422T221533
CREATED:20221120T055825Z
LAST-MODIFIED:20221120T060039Z
UID:12539-1669334400-1669420799@srsusdubai.ae
SUMMARY:Safari Dubai park camp
DESCRIPTION:Yr 6 B Safari Dubai park camp
URL:https://srsusdubai.ae/calendar/yr-6-b-safari-dubai-park-camp/
LOCATION:School of Research Science\, Dubai\, United Arab Emirates
CATEGORIES:Term 1,Uk Calendar
END:VEVENT
BEGIN:VEVENT
DTSTART;VALUE=DATE:20221125
DTEND;VALUE=DATE:20221126
DTSTAMP:20260422T221533
CREATED:20221120T055738Z
LAST-MODIFIED:20221120T060129Z
UID:12536-1669334400-1669420799@srsusdubai.ae
SUMMARY:Aventura camp
DESCRIPTION:Aventura camp for Yr 4 G
URL:https://srsusdubai.ae/calendar/yr-4-g-aventura-camp/
LOCATION:School of Research Science\, Dubai\, United Arab Emirates
CATEGORIES:Term 1,Uk Calendar
END:VEVENT
BEGIN:VEVENT
DTSTART;VALUE=DATE:20221125
DTEND;VALUE=DATE:20221126
DTSTAMP:20260422T221533
CREATED:20221120T055700Z
LAST-MODIFIED:20221120T055700Z
UID:12533-1669334400-1669420799@srsusdubai.ae
SUMMARY:Dyslexia Awareness Day (SEN)
DESCRIPTION:Dyslexia Awareness Day (SEN)
URL:https://srsusdubai.ae/calendar/dyslexia-awareness-day-sen/
LOCATION:School of Research Science\, Dubai\, United Arab Emirates
CATEGORIES:SEND,Term 1,Uk Calendar
END:VEVENT
BEGIN:VEVENT
DTSTART;VALUE=DATE:20221125
DTEND;VALUE=DATE:20221126
DTSTAMP:20260422T221533
CREATED:20221120T055621Z
LAST-MODIFIED:20240227T052749Z
UID:12530-1669334400-1669420799@srsusdubai.ae
SUMMARY:Arabic Champions League Y4-10
DESCRIPTION:Arabic Champions League: A competition to developing students in basic information in all Arabic subjects.
URL:https://srsusdubai.ae/calendar/arabic-champions-league-y4-10-2/
LOCATION:School of Research Science\, Dubai\, United Arab Emirates
CATEGORIES:Term 1,Uk Calendar
END:VEVENT
BEGIN:VEVENT
DTSTART;VALUE=DATE:20221125
DTEND;VALUE=DATE:20221126
DTSTAMP:20260422T221533
CREATED:20221120T055421Z
LAST-MODIFIED:20221120T055421Z
UID:12527-1669334400-1669420799@srsusdubai.ae
SUMMARY:Secondary Parent Consultation Meetings
DESCRIPTION:Secondary Parent Consultation Meetings
URL:https://srsusdubai.ae/calendar/secondary-parent-consultation-meetings-2/
LOCATION:School of Research Science\, Dubai\, United Arab Emirates
CATEGORIES:Term 1,Uk Calendar
END:VEVENT
BEGIN:VEVENT
DTSTART;VALUE=DATE:20221124
DTEND;VALUE=DATE:20221125
DTSTAMP:20260422T221533
CREATED:20220927T092030Z
LAST-MODIFIED:20220927T092030Z
UID:12175-1669248000-1669334399@srsusdubai.ae
SUMMARY:Football Tournament
DESCRIPTION:Football Tournament Year 5 and 6 n the occasion of National day.
URL:https://srsusdubai.ae/calendar/football-tournament/
LOCATION:School of Research Science\, Dubai\, United Arab Emirates
CATEGORIES:Term 1,Uk Calendar
END:VEVENT
BEGIN:VEVENT
DTSTART;VALUE=DATE:20221124
DTEND;VALUE=DATE:20221125
DTSTAMP:20260422T221533
CREATED:20220927T084906Z
LAST-MODIFIED:20220927T084906Z
UID:12173-1669248000-1669334399@srsusdubai.ae
SUMMARY:End of Term 1 After School Activities
DESCRIPTION:Term 1 After School Activities will end
URL:https://srsusdubai.ae/calendar/end-of-term-1-after-school-activities/
LOCATION:School of Research Science\, Dubai\, United Arab Emirates
CATEGORIES:Term 1,Uk Calendar
END:VEVENT
BEGIN:VEVENT
DTSTART;VALUE=DATE:20221124
DTEND;VALUE=DATE:20221125
DTSTAMP:20260422T221533
CREATED:20220927T084704Z
LAST-MODIFIED:20220927T084704Z
UID:12171-1669248000-1669334399@srsusdubai.ae
SUMMARY:Arabic Champions League
DESCRIPTION:Arabic Champions League Y4-10
URL:https://srsusdubai.ae/calendar/arabic-champions-league-5/
LOCATION:School of Research Science\, Dubai\, United Arab Emirates
CATEGORIES:Term 1,Uk Calendar
END:VEVENT
BEGIN:VEVENT
DTSTART;VALUE=DATE:20221124
DTEND;VALUE=DATE:20221125
DTSTAMP:20260422T221533
CREATED:20220927T084437Z
LAST-MODIFIED:20220927T084437Z
UID:12169-1669248000-1669334399@srsusdubai.ae
SUMMARY:Primary Parent Consultation Meetings
DESCRIPTION:Primary Parent  Consultation Meetings
URL:https://srsusdubai.ae/calendar/primary-parent-consultation-meetings/
LOCATION:School of Research Science\, Dubai\, United Arab Emirates
CATEGORIES:Term 1,Uk Calendar
END:VEVENT
BEGIN:VEVENT
DTSTART;VALUE=DATE:20221123
DTEND;VALUE=DATE:20221124
DTSTAMP:20260422T221533
CREATED:20220927T084401Z
LAST-MODIFIED:20220927T084401Z
UID:12167-1669161600-1669247999@srsusdubai.ae
SUMMARY:Evening Football Tournament
DESCRIPTION:Evening Football Tournament Y9\, 10 and 11 (UK\, US)
URL:https://srsusdubai.ae/calendar/evening-football-tournament-2/
LOCATION:School of Research Science\, Dubai\, United Arab Emirates
CATEGORIES:Term 1,Uk Calendar
END:VEVENT
BEGIN:VEVENT
DTSTART;VALUE=DATE:20221123
DTEND;VALUE=DATE:20221124
DTSTAMP:20260422T221533
CREATED:20220927T084320Z
LAST-MODIFIED:20220927T084320Z
UID:12165-1669161600-1669247999@srsusdubai.ae
SUMMARY:Arabic Champions League
DESCRIPTION:Arabic Champions League: A competition to developing students in basic information in all Arabic subjects.
URL:https://srsusdubai.ae/calendar/arabic-champions-league-4/
LOCATION:School of Research Science\, Dubai\, United Arab Emirates
CATEGORIES:Term 1,Uk Calendar
END:VEVENT
BEGIN:VEVENT
DTSTART;VALUE=DATE:20221123
DTEND;VALUE=DATE:20221124
DTSTAMP:20260422T221533
CREATED:20220927T084230Z
LAST-MODIFIED:20220927T084230Z
UID:12163-1669161600-1669247999@srsusdubai.ae
SUMMARY:Secondary Parent Consultation Meetings
DESCRIPTION:Secondary Parent Consultation Meetings
URL:https://srsusdubai.ae/calendar/secondary-parent-consultation-meetings/
LOCATION:School of Research Science\, Dubai\, United Arab Emirates
CATEGORIES:Term 1,Uk Calendar
END:VEVENT
BEGIN:VEVENT
DTSTART;VALUE=DATE:20221122
DTEND;VALUE=DATE:20221123
DTSTAMP:20260422T221533
CREATED:20220927T084056Z
LAST-MODIFIED:20220927T084108Z
UID:12161-1669075200-1669161599@srsusdubai.ae
SUMMARY:Arabic Champions League
DESCRIPTION:Arabic champions League Y4-10 : A competition to developing students in basic information in all Arabic subjects.
URL:https://srsusdubai.ae/calendar/arabic-champions-league-3/
LOCATION:School of Research Science\, Dubai\, United Arab Emirates
CATEGORIES:Term 1,Uk Calendar
END:VEVENT
BEGIN:VEVENT
DTSTART;VALUE=DATE:20221121
DTEND;VALUE=DATE:20221122
DTSTAMP:20260422T221533
CREATED:20220927T083956Z
LAST-MODIFIED:20220927T083956Z
UID:12159-1668988800-1669075199@srsusdubai.ae
SUMMARY:Evening Football Tournament
DESCRIPTION:Evening Football Tournament Y7 and Y8 on the occasion of National Day
URL:https://srsusdubai.ae/calendar/evening-football-tournament/
LOCATION:School of Research Science\, Dubai\, United Arab Emirates
CATEGORIES:Term 1,Uk Calendar
END:VEVENT
BEGIN:VEVENT
DTSTART;VALUE=DATE:20221121
DTEND;VALUE=DATE:20221126
DTSTAMP:20260422T221533
CREATED:20220927T083859Z
LAST-MODIFIED:20220927T083859Z
UID:12157-1668988800-1669420799@srsusdubai.ae
SUMMARY:World Cup Project
DESCRIPTION:World Cup Project (PE Dep)
URL:https://srsusdubai.ae/calendar/world-cup-project/
LOCATION:School of Research Science\, Dubai\, United Arab Emirates
CATEGORIES:Term 1,Uk Calendar
END:VEVENT
BEGIN:VEVENT
DTSTART;VALUE=DATE:20221121
DTEND;VALUE=DATE:20221126
DTSTAMP:20260422T221533
CREATED:20220927T083801Z
LAST-MODIFIED:20220927T083801Z
UID:12155-1668988800-1669420799@srsusdubai.ae
SUMMARY:Anti-Bulling Week
DESCRIPTION:Anti-Bulling Week
URL:https://srsusdubai.ae/calendar/anti-bulling-week-2/
LOCATION:School of Research Science\, Dubai\, United Arab Emirates
CATEGORIES:Term 1,Uk Calendar
END:VEVENT
BEGIN:VEVENT
DTSTART;VALUE=DATE:20221121
DTEND;VALUE=DATE:20221122
DTSTAMP:20260422T221533
CREATED:20220927T083652Z
LAST-MODIFIED:20220927T083652Z
UID:12153-1668988800-1669075199@srsusdubai.ae
SUMMARY:Report Distribution
DESCRIPTION:Report Distribution TBC (SECONDARY)
URL:https://srsusdubai.ae/calendar/report-distribution/
LOCATION:School of Research Science\, Dubai\, United Arab Emirates
CATEGORIES:Term 1,Uk Calendar
END:VEVENT
BEGIN:VEVENT
DTSTART;VALUE=DATE:20221121
DTEND;VALUE=DATE:20221122
DTSTAMP:20260422T221533
CREATED:20220927T082347Z
LAST-MODIFIED:20220927T082347Z
UID:12151-1668988800-1669075199@srsusdubai.ae
SUMMARY:Arabic Champions League
DESCRIPTION:Arabic Champions League for Year 4-10. A competition to developing students in basic information in all Arabic subjects.
URL:https://srsusdubai.ae/calendar/arabic-champions-league-2/
LOCATION:School of Research Science\, Dubai\, United Arab Emirates
CATEGORIES:Term 1,Uk Calendar
END:VEVENT
BEGIN:VEVENT
DTSTART;VALUE=DATE:20221121
DTEND;VALUE=DATE:20221122
DTSTAMP:20260422T221533
CREATED:20220927T082239Z
LAST-MODIFIED:20220927T082239Z
UID:12149-1668988800-1669075199@srsusdubai.ae
SUMMARY:Art in Algebra Exhibition
DESCRIPTION:Art in Algebra Exhibition
URL:https://srsusdubai.ae/calendar/art-in-algebra-exhibition/
LOCATION:School of Research Science\, Dubai\, United Arab Emirates
CATEGORIES:Term 1,Uk Calendar
END:VEVENT
BEGIN:VEVENT
DTSTART;VALUE=DATE:20221120
DTEND;VALUE=DATE:20221121
DTSTAMP:20260422T221533
CREATED:20220927T082044Z
LAST-MODIFIED:20220927T082044Z
UID:12147-1668902400-1668988799@srsusdubai.ae
SUMMARY:University Fair
DESCRIPTION:University Fair for students
URL:https://srsusdubai.ae/calendar/university-fair/
LOCATION:School of Research Science\, Dubai\, United Arab Emirates
CATEGORIES:Term 1,Uk Calendar
END:VEVENT
BEGIN:VEVENT
DTSTART;VALUE=DATE:20221118
DTEND;VALUE=DATE:20221119
DTSTAMP:20260422T221533
CREATED:20220927T081956Z
LAST-MODIFIED:20220927T081956Z
UID:12145-1668729600-1668815999@srsusdubai.ae
SUMMARY:IMG camp
DESCRIPTION:Yr 8 G IMG camp
URL:https://srsusdubai.ae/calendar/img-camp-3/
LOCATION:School of Research Science\, Dubai\, United Arab Emirates
CATEGORIES:Term 1,Uk Calendar
END:VEVENT
BEGIN:VEVENT
DTSTART;VALUE=DATE:20221118
DTEND;VALUE=DATE:20221119
DTSTAMP:20260422T221533
CREATED:20220927T081925Z
LAST-MODIFIED:20220927T081925Z
UID:12143-1668729600-1668815999@srsusdubai.ae
SUMMARY:Ferrari camp
DESCRIPTION:Yr 8 B Ferrari camp
URL:https://srsusdubai.ae/calendar/ferrari-camp/
LOCATION:School of Research Science\, Dubai\, United Arab Emirates
CATEGORIES:Term 1,Uk Calendar
END:VEVENT
BEGIN:VEVENT
DTSTART;VALUE=DATE:20221118
DTEND;VALUE=DATE:20221119
DTSTAMP:20260422T221533
CREATED:20220927T081853Z
LAST-MODIFIED:20220927T081853Z
UID:12141-1668729600-1668815999@srsusdubai.ae
SUMMARY:Safari Dubai park camp
DESCRIPTION:Yr 6 B Safari Dubai park camp
URL:https://srsusdubai.ae/calendar/safari-dubai-park-camp-2/
LOCATION:School of Research Science\, Dubai\, United Arab Emirates
CATEGORIES:Term 1,Uk Calendar
END:VEVENT
BEGIN:VEVENT
DTSTART;VALUE=DATE:20221118
DTEND;VALUE=DATE:20221119
DTSTAMP:20260422T221533
CREATED:20220927T081756Z
LAST-MODIFIED:20240227T051756Z
UID:12139-1668729600-1668815999@srsusdubai.ae
SUMMARY:Aventura camp
DESCRIPTION:Yr 3 M Aventura camp
URL:https://srsusdubai.ae/calendar/aventura-camp/
LOCATION:School of Research Science\, Dubai\, United Arab Emirates
CATEGORIES:Term 1,Uk Calendar
END:VEVENT
BEGIN:VEVENT
DTSTART;VALUE=DATE:20221117
DTEND;VALUE=DATE:20221118
DTSTAMP:20260422T221533
CREATED:20220927T081521Z
LAST-MODIFIED:20220927T081521Z
UID:12137-1668643200-1668729599@srsusdubai.ae
SUMMARY:Art trip - Boys
DESCRIPTION:Year 12 and Year 11 (Boys) Art trip to the Louvre (ART)
URL:https://srsusdubai.ae/calendar/art-trip-boys/
LOCATION:School of Research Science\, Dubai\, United Arab Emirates
CATEGORIES:Term 1,Uk Calendar
END:VEVENT
BEGIN:VEVENT
DTSTART;VALUE=DATE:20221116
DTEND;VALUE=DATE:20221117
DTSTAMP:20260422T221533
CREATED:20220927T081426Z
LAST-MODIFIED:20220927T081426Z
UID:12135-1668556800-1668643199@srsusdubai.ae
SUMMARY:International Day for Tolerance
DESCRIPTION:The International Day for Tolerance is an annual observance day declared by UNESCO in 1995 to generate public awareness of the dangers of intolerance.
URL:https://srsusdubai.ae/calendar/international-day-for-tolerance/
LOCATION:School of Research Science\, Dubai\, United Arab Emirates
CATEGORIES:International Event,Term 1,Uk Calendar
END:VEVENT
END:VCALENDAR